BEGIN:VCALENDAR
VERSION:2.0
PRODID:-//Bryan School of Business &amp; Economics - ECPv6.15.17//NONSGML v1.0//EN
CALSCALE:GREGORIAN
METHOD:PUBLISH
X-ORIGINAL-URL:https://bryan.uncg.edu
X-WR-CALDESC:Events for Bryan School of Business &amp; Economics
REFRESH-INTERVAL;VALUE=DURATION:PT1H
X-Robots-Tag:noindex
X-PUBLISHED-TTL:PT1H
BEGIN:VTIMEZONE
TZID:America/New_York
BEGIN:DAYLIGHT
TZOFFSETFROM:-0500
TZOFFSETTO:-0400
TZNAME:EDT
DTSTART:20230312T070000
END:DAYLIGHT
BEGIN:STANDARD
TZOFFSETFROM:-0400
TZOFFSETTO:-0500
TZNAME:EST
DTSTART:20231105T060000
END:STANDARD
BEGIN:DAYLIGHT
TZOFFSETFROM:-0500
TZOFFSETTO:-0400
TZNAME:EDT
DTSTART:20240310T070000
END:DAYLIGHT
BEGIN:STANDARD
TZOFFSETFROM:-0400
TZOFFSETTO:-0500
TZNAME:EST
DTSTART:20241103T060000
END:STANDARD
BEGIN:DAYLIGHT
TZOFFSETFROM:-0500
TZOFFSETTO:-0400
TZNAME:EDT
DTSTART:20250309T070000
END:DAYLIGHT
BEGIN:STANDARD
TZOFFSETFROM:-0400
TZOFFSETTO:-0500
TZNAME:EST
DTSTART:20251102T060000
END:STANDARD
END:VTIMEZONE
BEGIN:VEVENT
DTSTART;TZID=America/New_York:20240206T173000
DTEND;TZID=America/New_York:20240206T193000
DTSTAMP:20260421T022128
CREATED:20240130T205335Z
LAST-MODIFIED:20240202T143233Z
UID:10000082-1707240600-1707247800@bryan.uncg.edu
SUMMARY:UNCG Transfer Information Program
DESCRIPTION:Join us for our first virtual Transfer Information Program (TIP) happening on Tuesday\, February 6\, 2024\, at 5:30 PM until 7:30 PM. \nDon’t miss a great opportunity to find out about UNC Greensboro! The Office of Undergraduate Admissions invites prospective transfer and adult students to attend our virtual session for a chance to talk to transfer articulation specialists\, financial aid representatives\, and admissions counselors in a virtual environment. You’ll learn about the admission process\, transfer credit evaluations\, and financial aid through presentations and open discussions. Attendees receive a $65 application fee waiver to use towards the FALL 2024 semester. \n Click Here to Register!
URL:https://bryan.uncg.edu/event/transfer-information-program/
LOCATION:Bryan School of Business and Economics\, 516 Stirling Street\, Greensboro\, NC\, 27412\, United States
CATEGORIES:Undergraduate Recruitment
ATTACH;FMTTYPE=image/png:https://bryan.uncg.edu/wp-content/uploads/2022/01/website14.png
END:VEVENT
END:VCALENDAR