BEGIN:VCALENDAR
VERSION:2.0
PRODID:-//Bryan School of Business &amp; Economics - ECPv6.15.17//NONSGML v1.0//EN
CALSCALE:GREGORIAN
METHOD:PUBLISH
X-WR-CALNAME:Bryan School of Business &amp; Economics
X-ORIGINAL-URL:https://bryan.uncg.edu
X-WR-CALDESC:Events for Bryan School of Business &amp; Economics
REFRESH-INTERVAL;VALUE=DURATION:PT1H
X-Robots-Tag:noindex
X-PUBLISHED-TTL:PT1H
BEGIN:VTIMEZONE
TZID:America/New_York
BEGIN:DAYLIGHT
TZOFFSETFROM:-0500
TZOFFSETTO:-0400
TZNAME:EDT
DTSTART:20230312T070000
END:DAYLIGHT
BEGIN:STANDARD
TZOFFSETFROM:-0400
TZOFFSETTO:-0500
TZNAME:EST
DTSTART:20231105T060000
END:STANDARD
BEGIN:DAYLIGHT
TZOFFSETFROM:-0500
TZOFFSETTO:-0400
TZNAME:EDT
DTSTART:20240310T070000
END:DAYLIGHT
BEGIN:STANDARD
TZOFFSETFROM:-0400
TZOFFSETTO:-0500
TZNAME:EST
DTSTART:20241103T060000
END:STANDARD
BEGIN:DAYLIGHT
TZOFFSETFROM:-0500
TZOFFSETTO:-0400
TZNAME:EDT
DTSTART:20250309T070000
END:DAYLIGHT
BEGIN:STANDARD
TZOFFSETFROM:-0400
TZOFFSETTO:-0500
TZNAME:EST
DTSTART:20251102T060000
END:STANDARD
END:VTIMEZONE
BEGIN:VEVENT
DTSTART;TZID=America/New_York:20241106T120000
DTEND;TZID=America/New_York:20241106T130000
DTSTAMP:20260421T150629
CREATED:20240701T185556Z
LAST-MODIFIED:20240715T201207Z
UID:10000137-1730894400-1730898000@bryan.uncg.edu
SUMMARY:Cone Health
DESCRIPTION:Cone Health is a private\, not-for-profit healthcare delivery system based in Greensboro\, North Carolina. As one of the region’s largest and most comprehensive health networks\, Cone Health has more than 150 locations\, including five hospitals\, six ambulatory care centers\, three outpatient surgery centers\, eight urgent care centers\, two retirement communities and more than 120 physician practices. \nCone Health also offers an Administrative Fellowship and Internships for most business majors. \nIf you’re interested in learning more about Cone Health and meeting their recruiting team\, be sure to attend this in-person event! \nClick Here to Register!
URL:https://bryan.uncg.edu/event/cone-health/
LOCATION:Bryan Building – Room 225\, 516 Stirling Street\, Greensboro\, NC\, 27412\, United States
CATEGORIES:Company Spotlight
ORGANIZER;CN="Jaap-Jan van Duin":MAILTO:j_vandui@uncg.edu
END:VEVENT
END:VCALENDAR