BEGIN:VCALENDAR
VERSION:2.0
PRODID:-//Bryan School of Business &amp; Economics - ECPv6.15.17//NONSGML v1.0//EN
CALSCALE:GREGORIAN
METHOD:PUBLISH
X-WR-CALNAME:Bryan School of Business &amp; Economics
X-ORIGINAL-URL:https://bryan.uncg.edu
X-WR-CALDESC:Events for Bryan School of Business &amp; Economics
REFRESH-INTERVAL;VALUE=DURATION:PT1H
X-Robots-Tag:noindex
X-PUBLISHED-TTL:PT1H
BEGIN:VTIMEZONE
TZID:America/New_York
BEGIN:DAYLIGHT
TZOFFSETFROM:-0500
TZOFFSETTO:-0400
TZNAME:EDT
DTSTART:20240310T070000
END:DAYLIGHT
BEGIN:STANDARD
TZOFFSETFROM:-0400
TZOFFSETTO:-0500
TZNAME:EST
DTSTART:20241103T060000
END:STANDARD
BEGIN:DAYLIGHT
TZOFFSETFROM:-0500
TZOFFSETTO:-0400
TZNAME:EDT
DTSTART:20250309T070000
END:DAYLIGHT
BEGIN:STANDARD
TZOFFSETFROM:-0400
TZOFFSETTO:-0500
TZNAME:EST
DTSTART:20251102T060000
END:STANDARD
BEGIN:DAYLIGHT
TZOFFSETFROM:-0500
TZOFFSETTO:-0400
TZNAME:EDT
DTSTART:20260308T070000
END:DAYLIGHT
BEGIN:STANDARD
TZOFFSETFROM:-0400
TZOFFSETTO:-0500
TZNAME:EST
DTSTART:20261101T060000
END:STANDARD
END:VTIMEZONE
BEGIN:VEVENT
DTSTART;TZID=America/New_York:20250228T100000
DTEND;TZID=America/New_York:20250228T113000
DTSTAMP:20260422T110036
CREATED:20250218T201612Z
LAST-MODIFIED:20250218T201815Z
UID:10000234-1740736800-1740742200@bryan.uncg.edu
SUMMARY:Future Forward Series - Successful Entrepreneurship: From Vision to Profit
DESCRIPTION:Speaker: Mr. David Schuck – UNCG Class of 2002\nFOUNDER & CEO of Spartan Fitness Holdings LLC\nRanked #90 on INC. 5000’s Fastest Growing Private Companies in America in 2024\nMEHT Future Forward is a speaker series dedicated to learning from successful alumni. This initiative connects students with accomplished graduates who offer valuable real-world insights on topics such as entrepreneurship\, career development\, and navigating future opportunities. Through engaging presentations and personal stories\, alumni share their experiences in overcoming challenges\, making pivotal career decisions\, and building thriving businesses. By fostering these connections\, the series provides students with a deeper understanding of the skills\, mindset\, and strategies required to succeed in their own careers. Ultimately\, Future Forward equips students with practical knowledge and inspiration to confidently pursue their goals and prepare for the evolving professional landscape. \n \n 
URL:https://bryan.uncg.edu/event/future-forward-series-successful-entrepreneurship-from-vision-to-profit/
LOCATION:Bryan School of Business and Economics\, 516 Stirling Street\, Greensboro\, NC\, 27412\, United States
CATEGORIES:Marketing, Entrepreneurship, Hospitality and Tourism
ATTACH;FMTTYPE=image/jpeg:https://bryan.uncg.edu/wp-content/uploads/2025/02/Schuck-Event-flyer.jpg
END:VEVENT
END:VCALENDAR