BEGIN:VCALENDAR
VERSION:2.0
PRODID:-//Bryan School of Business &amp; Economics - ECPv6.15.17//NONSGML v1.0//EN
CALSCALE:GREGORIAN
METHOD:PUBLISH
X-WR-CALNAME:Bryan School of Business &amp; Economics
X-ORIGINAL-URL:https://bryan.uncg.edu
X-WR-CALDESC:Events for Bryan School of Business &amp; Economics
REFRESH-INTERVAL;VALUE=DURATION:PT1H
X-Robots-Tag:noindex
X-PUBLISHED-TTL:PT1H
BEGIN:VTIMEZONE
TZID:America/New_York
BEGIN:DAYLIGHT
TZOFFSETFROM:-0500
TZOFFSETTO:-0400
TZNAME:EDT
DTSTART:20240310T070000
END:DAYLIGHT
BEGIN:STANDARD
TZOFFSETFROM:-0400
TZOFFSETTO:-0500
TZNAME:EST
DTSTART:20241103T060000
END:STANDARD
BEGIN:DAYLIGHT
TZOFFSETFROM:-0500
TZOFFSETTO:-0400
TZNAME:EDT
DTSTART:20250309T070000
END:DAYLIGHT
BEGIN:STANDARD
TZOFFSETFROM:-0400
TZOFFSETTO:-0500
TZNAME:EST
DTSTART:20251102T060000
END:STANDARD
BEGIN:DAYLIGHT
TZOFFSETFROM:-0500
TZOFFSETTO:-0400
TZNAME:EDT
DTSTART:20260308T070000
END:DAYLIGHT
BEGIN:STANDARD
TZOFFSETFROM:-0400
TZOFFSETTO:-0500
TZNAME:EST
DTSTART:20261101T060000
END:STANDARD
END:VTIMEZONE
BEGIN:VEVENT
DTSTART;TZID=America/New_York:20250301T150000
DTEND;TZID=America/New_York:20250301T180000
DTSTAMP:20260422T125932
CREATED:20250212T213047Z
LAST-MODIFIED:20250213T133512Z
UID:10000233-1740841200-1740852000@bryan.uncg.edu
SUMMARY:Bryan School Spartan Spot
DESCRIPTION:Hello! \nExciting news! Tickets for the Bryan School’s Men’s Basketball Spartan Spot are now on sale! We can’t wait to host you on Saturday\, March 1\, as our men’s basketball team faces off against Samford. \nTicket sales close on February 26 at 5 PM\, so be sure to register before the deadline. \nWe look forward to seeing you there! \n  \nImportant Information \n💲Cost: The ticket price is $15 + tax. Your Spartan Spot ticket includes: \n\nHeavy appetizers (while supplies last)\nTwo drink tickets from our private bar (alcoholic & non-alcoholic options available)\nAccess to our exclusive seating section in the Fleming Gym\n\n📍Location: UNCG Fleming Gym (1408 Walker Ave\, Greensboro\, NC 27412) \n🚗Parking: Free parking available at the Walker Parking Deck (506 Stirling St\, Greensboro\, NC 27412) \n🍗Food\, Drinks\, & Mingle: 3:00-4:00 PM \n🏀Tip-Off: 4:00 PM \n👥Who’s Invited?: The Spartan Spot is exclusive to Bryan School alumni\, family\, friends\, faculty\, and staff. Seating is first-come\, first-served. \n🎟️Ticket Pick-Up: Tickets can be picked up at Will Call at the Fleming Gym\, located at the main ticket booth just outside the arena. \n🪪Your ID: The ticket purchaser must present their ID to pick up tickets at Will Call. \nAttire: Show your school spirit with blue and gold! Opposing team gear is not allowed. \n🌧️Inclement Weather: In the event of severe weather\, game cancellations will be determined by UNCG Athletics. Updates will be shared on their Twitter and Facebook pages. \n📞Questions or Assistance?: Contact Katy Barker at 336-840-6501.
URL:https://bryan.uncg.edu/event/bryan-school-spartan-spot/
LOCATION:UNCG Fleming Gym\, 1408 Walker Ave\, Greensboro\, NC\, 27412\, United States
CATEGORIES:Alumni,Graduate Students,Undergraduate Students
ATTACH;FMTTYPE=image/jpeg:https://bryan.uncg.edu/wp-content/uploads/2025/02/Bryan-School-Spartan-Spot.jpg
END:VEVENT
END:VCALENDAR