BEGIN:VCALENDAR
VERSION:2.0
PRODID:-//Bryan School of Business &amp; Economics - ECPv6.15.17//NONSGML v1.0//EN
CALSCALE:GREGORIAN
METHOD:PUBLISH
X-WR-CALNAME:Bryan School of Business &amp; Economics
X-ORIGINAL-URL:https://bryan.uncg.edu
X-WR-CALDESC:Events for Bryan School of Business &amp; Economics
REFRESH-INTERVAL;VALUE=DURATION:PT1H
X-Robots-Tag:noindex
X-PUBLISHED-TTL:PT1H
BEGIN:VTIMEZONE
TZID:America/New_York
BEGIN:DAYLIGHT
TZOFFSETFROM:-0500
TZOFFSETTO:-0400
TZNAME:EDT
DTSTART:20240310T070000
END:DAYLIGHT
BEGIN:STANDARD
TZOFFSETFROM:-0400
TZOFFSETTO:-0500
TZNAME:EST
DTSTART:20241103T060000
END:STANDARD
BEGIN:DAYLIGHT
TZOFFSETFROM:-0500
TZOFFSETTO:-0400
TZNAME:EDT
DTSTART:20250309T070000
END:DAYLIGHT
BEGIN:STANDARD
TZOFFSETFROM:-0400
TZOFFSETTO:-0500
TZNAME:EST
DTSTART:20251102T060000
END:STANDARD
BEGIN:DAYLIGHT
TZOFFSETFROM:-0500
TZOFFSETTO:-0400
TZNAME:EDT
DTSTART:20260308T070000
END:DAYLIGHT
BEGIN:STANDARD
TZOFFSETFROM:-0400
TZOFFSETTO:-0500
TZNAME:EST
DTSTART:20261101T060000
END:STANDARD
END:VTIMEZONE
BEGIN:VEVENT
DTSTART;TZID=America/New_York:20250325T120000
DTEND;TZID=America/New_York:20250325T130000
DTSTAMP:20260420T073150
CREATED:20250121T155326Z
LAST-MODIFIED:20250205T172213Z
UID:10000220-1742904000-1742907600@bryan.uncg.edu
SUMMARY:Charles Aris Company Spotlight
DESCRIPTION:The Company Spotlight Series offers Bryan School students a unique\, hands-on opportunity to gain valuable industry insights directly from employers. \nIn this particular session we highlight Charles Aris Executive Search. \nHeadquartered here in Greensboro NC\, Charles Aris serves as one of the largest and most premier executive search firms in the nation with corporate teams leading initiatives such as Recruitment\, Research and Digital Technology\, Marketing\, Accounting\, Administration\, Human Capital and Leadership. \nThis session will focus on learning about all of the career opportunities that can be found at Charles Aris\, including many roles designed for upcoming college graduates. \n Click Here to Register!
URL:https://bryan.uncg.edu/event/charles-aris-company-spotlight-3-25-25/
LOCATION:Microsoft Teams
CATEGORIES:Company Spotlight
ATTACH;FMTTYPE=image/jpeg:https://bryan.uncg.edu/wp-content/uploads/2023/07/Company_Spotlights.jpg
END:VEVENT
END:VCALENDAR