BEGIN:VCALENDAR
VERSION:2.0
PRODID:-//Bryan School of Business &amp; Economics - ECPv6.15.17//NONSGML v1.0//EN
CALSCALE:GREGORIAN
METHOD:PUBLISH
X-ORIGINAL-URL:https://bryan.uncg.edu
X-WR-CALDESC:Events for Bryan School of Business &amp; Economics
REFRESH-INTERVAL;VALUE=DURATION:PT1H
X-Robots-Tag:noindex
X-PUBLISHED-TTL:PT1H
BEGIN:VTIMEZONE
TZID:America/New_York
BEGIN:DAYLIGHT
TZOFFSETFROM:-0500
TZOFFSETTO:-0400
TZNAME:EDT
DTSTART:20240310T070000
END:DAYLIGHT
BEGIN:STANDARD
TZOFFSETFROM:-0400
TZOFFSETTO:-0500
TZNAME:EST
DTSTART:20241103T060000
END:STANDARD
BEGIN:DAYLIGHT
TZOFFSETFROM:-0500
TZOFFSETTO:-0400
TZNAME:EDT
DTSTART:20250309T070000
END:DAYLIGHT
BEGIN:STANDARD
TZOFFSETFROM:-0400
TZOFFSETTO:-0500
TZNAME:EST
DTSTART:20251102T060000
END:STANDARD
BEGIN:DAYLIGHT
TZOFFSETFROM:-0500
TZOFFSETTO:-0400
TZNAME:EDT
DTSTART:20260308T070000
END:DAYLIGHT
BEGIN:STANDARD
TZOFFSETFROM:-0400
TZOFFSETTO:-0500
TZNAME:EST
DTSTART:20261101T060000
END:STANDARD
END:VTIMEZONE
BEGIN:VEVENT
DTSTART;TZID=America/New_York:20250916T120000
DTEND;TZID=America/New_York:20250916T130000
DTSTAMP:20260420T194536
CREATED:20250818T161102Z
LAST-MODIFIED:20250828T134354Z
UID:10000297-1758024000-1758027600@bryan.uncg.edu
SUMMARY:Company Spotlight Session: John Deere 9/16/25
DESCRIPTION:The Company Spotlight Series offers Bryan School students a unique\, hands-on opportunity to gain valuable industry insights directly from employers. \nWe are pleased to welcome John Deere (Kernersville)\, a key manufacturing facility for John Deere’s world-class construction equipment. Known globally for innovation\, quality\, and sustainability\, John Deere offers team members the opportunity to work with cutting-edge technology and be part of a brand that has shaped industries for over 185 years. Business students will find exciting career opportunities here in areas such as operations\, supply chain\, finance\, and marketing\, all within a company committed to growth\, professional development\, and making a lasting impact. \nRegister for this event on Handshake!
URL:https://bryan.uncg.edu/event/company-spotlight-session-john-deere-9-16-25/
LOCATION:Microsoft Teams
CATEGORIES:Company Spotlight
ATTACH;FMTTYPE=image/png:https://bryan.uncg.edu/wp-content/uploads/2025/01/New-Company-Spotlight.png
ORGANIZER;CN="Courtney Haynes":MAILTO:cchaynes@uncg.edu
END:VEVENT
END:VCALENDAR