BEGIN:VCALENDAR
VERSION:2.0
PRODID:-//Bryan School of Business &amp; Economics - ECPv6.15.17//NONSGML v1.0//EN
CALSCALE:GREGORIAN
METHOD:PUBLISH
X-ORIGINAL-URL:https://bryan.uncg.edu
X-WR-CALDESC:Events for Bryan School of Business &amp; Economics
REFRESH-INTERVAL;VALUE=DURATION:PT1H
X-Robots-Tag:noindex
X-PUBLISHED-TTL:PT1H
BEGIN:VTIMEZONE
TZID:America/New_York
BEGIN:DAYLIGHT
TZOFFSETFROM:-0500
TZOFFSETTO:-0400
TZNAME:EDT
DTSTART:20240310T070000
END:DAYLIGHT
BEGIN:STANDARD
TZOFFSETFROM:-0400
TZOFFSETTO:-0500
TZNAME:EST
DTSTART:20241103T060000
END:STANDARD
BEGIN:DAYLIGHT
TZOFFSETFROM:-0500
TZOFFSETTO:-0400
TZNAME:EDT
DTSTART:20250309T070000
END:DAYLIGHT
BEGIN:STANDARD
TZOFFSETFROM:-0400
TZOFFSETTO:-0500
TZNAME:EST
DTSTART:20251102T060000
END:STANDARD
BEGIN:DAYLIGHT
TZOFFSETFROM:-0500
TZOFFSETTO:-0400
TZNAME:EDT
DTSTART:20260308T070000
END:DAYLIGHT
BEGIN:STANDARD
TZOFFSETFROM:-0400
TZOFFSETTO:-0500
TZNAME:EST
DTSTART:20261101T060000
END:STANDARD
END:VTIMEZONE
BEGIN:VEVENT
DTSTART;TZID=America/New_York:20251008T120000
DTEND;TZID=America/New_York:20251008T130000
DTSTAMP:20260423T183127
CREATED:20250818T161509Z
LAST-MODIFIED:20250828T134815Z
UID:10000300-1759924800-1759928400@bryan.uncg.edu
SUMMARY:Company Spotlight Session: Truist 10/8/25
DESCRIPTION:The Company Spotlight Series offers Bryan School students a unique\, hands-on opportunity to gain valuable industry insights directly from employers. \nWe are excited to welcome Truist\, one of the largest financial services companies in the nation\, offering banking\, insurance\, and wealth management solutions to clients across the country. Truist is known for its purpose-driven culture\, commitment to innovation\, and investment in developing future leaders through hands-on training and career growth opportunities. Business students will find rewarding career paths at Truist that blend financial expertise\, community impact\, and the chance to work in a collaborative\, forward-thinking environment. \nRegister for this event on Handshake!
URL:https://bryan.uncg.edu/event/company-spotlight-session-truist-10-8-25/
LOCATION:Bryan Building – Room 225\, 516 Stirling Street\, Greensboro\, NC\, 27412\, United States
CATEGORIES:Company Spotlight
ATTACH;FMTTYPE=image/png:https://bryan.uncg.edu/wp-content/uploads/2025/01/New-Company-Spotlight.png
ORGANIZER;CN="Courtney Haynes":MAILTO:cchaynes@uncg.edu
END:VEVENT
END:VCALENDAR