BEGIN:VCALENDAR
VERSION:2.0
PRODID:-//Bryan School of Business &amp; Economics - ECPv6.15.17//NONSGML v1.0//EN
CALSCALE:GREGORIAN
METHOD:PUBLISH
X-WR-CALNAME:Bryan School of Business &amp; Economics
X-ORIGINAL-URL:https://bryan.uncg.edu
X-WR-CALDESC:Events for Bryan School of Business &amp; Economics
REFRESH-INTERVAL;VALUE=DURATION:PT1H
X-Robots-Tag:noindex
X-PUBLISHED-TTL:PT1H
BEGIN:VTIMEZONE
TZID:America/New_York
BEGIN:DAYLIGHT
TZOFFSETFROM:-0500
TZOFFSETTO:-0400
TZNAME:EDT
DTSTART:20250309T070000
END:DAYLIGHT
BEGIN:STANDARD
TZOFFSETFROM:-0400
TZOFFSETTO:-0500
TZNAME:EST
DTSTART:20251102T060000
END:STANDARD
BEGIN:DAYLIGHT
TZOFFSETFROM:-0500
TZOFFSETTO:-0400
TZNAME:EDT
DTSTART:20260308T070000
END:DAYLIGHT
BEGIN:STANDARD
TZOFFSETFROM:-0400
TZOFFSETTO:-0500
TZNAME:EST
DTSTART:20261101T060000
END:STANDARD
BEGIN:DAYLIGHT
TZOFFSETFROM:-0500
TZOFFSETTO:-0400
TZNAME:EDT
DTSTART:20270314T070000
END:DAYLIGHT
BEGIN:STANDARD
TZOFFSETFROM:-0400
TZOFFSETTO:-0500
TZNAME:EST
DTSTART:20271107T060000
END:STANDARD
END:VTIMEZONE
BEGIN:VEVENT
DTSTART;TZID=America/New_York:20260303T120000
DTEND;TZID=America/New_York:20260303T130000
DTSTAMP:20260420T181618
CREATED:20260108T151249Z
LAST-MODIFIED:20260120T164408Z
UID:10000352-1772539200-1772542800@bryan.uncg.edu
SUMMARY:Company Spotlight Session: AmeriLife (3/3/26)
DESCRIPTION:Join us for a Company Spotlight featuring AmeriLife Insurance and learn how business strategy\, client relationships\, and leadership development drive success in the insurance and financial services industry. \nThis session is ideal for students interested in finance\, sales\, management\, marketing\, analytics\, operations\, and entrepreneurship. You’ll gain insight into how AmeriLife supports advisors\, serves clients nationwide\, and creates career pathways that emphasize professional growth\, performance\, and long-term impact. \nWhy attend? \n\nExplore business and leadership career pathways in insurance and financial services\nLearn how client strategy\, sales\, and operations work together at scale\nHear directly from professionals about skills that matter and early-career opportunities\nAsk questions and engage in an interactive discussion\n\nWhether you’re interested in financial services\, relationship-driven careers\, or developing business and leadership skills in a growing industry\, this Company Spotlight offers valuable real-world perspective. \nRegister for the event in Handshake: https://uncg.joinhandshake.com/events/1881701/share_preview
URL:https://bryan.uncg.edu/event/company-spotlight-session-amerilife-3-3-26/
LOCATION:Microsoft Teams
CATEGORIES:Company Spotlight
ATTACH;FMTTYPE=image/png:https://bryan.uncg.edu/wp-content/uploads/2025/01/New-Company-Spotlight.png
ORGANIZER;CN="Courtney Haynes":MAILTO:cchaynes@uncg.edu
END:VEVENT
BEGIN:VEVENT
DTSTART;TZID=America/New_York:20260303T163000
DTEND;TZID=America/New_York:20260303T170000
DTSTAMP:20260420T181618
CREATED:20251204T172607Z
LAST-MODIFIED:20251204T172741Z
UID:10000339-1772555400-1772557200@bryan.uncg.edu
SUMMARY:Virtual Information Session for Bryan Online Undergraduate Programs
DESCRIPTION:Interested in pursuing or completing your bachelor’s degree? Join us for an informative 30-minute virtual session during which you will have the opportunity to explore the exceptional online program options available at the UNC Greensboro Bryan School of Business and Economics.  \nDuring this session\, we will delve into the following key topics: \n\nAn exploration of diverse program options\, including the types of classes you can expect to take\nGuidance on application deadlines and when to apply\nDetails of the resources available to you as an online student\nInformation on our completely online program structure\nAn overview of program cost and opportunities for financial aid\n\nWe hope you can join us so we can aid you in making an informed decision regarding your academic journey! \nLoading…
URL:https://bryan.uncg.edu/event/virtual-information-session-for-bryan-online-undergraduate-programs-4/
LOCATION:Online
CATEGORIES:uncg_main,Undergraduate Recruitment
ATTACH;FMTTYPE=image/jpeg:https://bryan.uncg.edu/wp-content/uploads/2023/10/Evening_Info.jpg
ORGANIZER;CN="Bryan Online Programs":MAILTO:bryanonline@uncg.edu
END:VEVENT
END:VCALENDAR