BEGIN:VCALENDAR
VERSION:2.0
PRODID:-//Bryan School of Business &amp; Economics - ECPv6.15.17//NONSGML v1.0//EN
CALSCALE:GREGORIAN
METHOD:PUBLISH
X-ORIGINAL-URL:https://bryan.uncg.edu
X-WR-CALDESC:Events for Bryan School of Business &amp; Economics
REFRESH-INTERVAL;VALUE=DURATION:PT1H
X-Robots-Tag:noindex
X-PUBLISHED-TTL:PT1H
BEGIN:VTIMEZONE
TZID:America/New_York
BEGIN:DAYLIGHT
TZOFFSETFROM:-0500
TZOFFSETTO:-0400
TZNAME:EDT
DTSTART:20250309T070000
END:DAYLIGHT
BEGIN:STANDARD
TZOFFSETFROM:-0400
TZOFFSETTO:-0500
TZNAME:EST
DTSTART:20251102T060000
END:STANDARD
BEGIN:DAYLIGHT
TZOFFSETFROM:-0500
TZOFFSETTO:-0400
TZNAME:EDT
DTSTART:20260308T070000
END:DAYLIGHT
BEGIN:STANDARD
TZOFFSETFROM:-0400
TZOFFSETTO:-0500
TZNAME:EST
DTSTART:20261101T060000
END:STANDARD
BEGIN:DAYLIGHT
TZOFFSETFROM:-0500
TZOFFSETTO:-0400
TZNAME:EDT
DTSTART:20270314T070000
END:DAYLIGHT
BEGIN:STANDARD
TZOFFSETFROM:-0400
TZOFFSETTO:-0500
TZNAME:EST
DTSTART:20271107T060000
END:STANDARD
END:VTIMEZONE
BEGIN:VEVENT
DTSTART;TZID=America/New_York:20260325T120000
DTEND;TZID=America/New_York:20260325T130000
DTSTAMP:20260421T094856
CREATED:20260108T151804Z
LAST-MODIFIED:20260120T164751Z
UID:10000355-1774440000-1774443600@bryan.uncg.edu
SUMMARY:Company Spotlight Session: JetZero (3/25/26)
DESCRIPTION:Join us for a Company Spotlight featuring JetZero and learn how business strategy\, operations\, and innovation support the future of sustainable aviation. \nThis session is ideal students interested in analytics\, operations\, supply chain\, finance\, project management\, strategy\, and technology-driven organizations. You’ll gain insight into how JetZero operates as a fast-growing startup\, partners across industries\, and translates cutting-edge engineering into scalable business solutions. \nWhy attend? \n\nExplore business career pathways within an innovative aerospace startup\nLearn how strategy\, operations\, and data support sustainability and growth\nHear directly from professionals about skills needed in high-impact\, emerging industries\nAsk questions and engage in an interactive discussion\n\nWhether you’re interested in startups\, advanced manufacturing\, sustainability\, or applying business skills in a high-growth environment\, this Company Spotlight offers valuable real-world perspective. \nRegister for the event in Handshake: https://uncg.joinhandshake.com/events/1881789/share_preview
URL:https://bryan.uncg.edu/event/company-spotlight-session-jetzero-3-25-26/
LOCATION:Bryan Building – Room 225\, 516 Stirling Street\, Greensboro\, NC\, 27412\, United States
CATEGORIES:Company Spotlight
ATTACH;FMTTYPE=image/png:https://bryan.uncg.edu/wp-content/uploads/2025/01/New-Company-Spotlight.png
ORGANIZER;CN="Courtney Haynes":MAILTO:cchaynes@uncg.edu
END:VEVENT
END:VCALENDAR