BEGIN:VCALENDAR
VERSION:2.0
PRODID:-//Bryan School of Business &amp; Economics - ECPv6.15.17//NONSGML v1.0//EN
CALSCALE:GREGORIAN
METHOD:PUBLISH
X-WR-CALNAME:Bryan School of Business &amp; Economics
X-ORIGINAL-URL:https://bryan.uncg.edu
X-WR-CALDESC:Events for Bryan School of Business &amp; Economics
REFRESH-INTERVAL;VALUE=DURATION:PT1H
X-Robots-Tag:noindex
X-PUBLISHED-TTL:PT1H
BEGIN:VTIMEZONE
TZID:America/New_York
BEGIN:DAYLIGHT
TZOFFSETFROM:-0500
TZOFFSETTO:-0400
TZNAME:EDT
DTSTART:20250309T070000
END:DAYLIGHT
BEGIN:STANDARD
TZOFFSETFROM:-0400
TZOFFSETTO:-0500
TZNAME:EST
DTSTART:20251102T060000
END:STANDARD
BEGIN:DAYLIGHT
TZOFFSETFROM:-0500
TZOFFSETTO:-0400
TZNAME:EDT
DTSTART:20260308T070000
END:DAYLIGHT
BEGIN:STANDARD
TZOFFSETFROM:-0400
TZOFFSETTO:-0500
TZNAME:EST
DTSTART:20261101T060000
END:STANDARD
BEGIN:DAYLIGHT
TZOFFSETFROM:-0500
TZOFFSETTO:-0400
TZNAME:EDT
DTSTART:20270314T070000
END:DAYLIGHT
BEGIN:STANDARD
TZOFFSETFROM:-0400
TZOFFSETTO:-0500
TZNAME:EST
DTSTART:20271107T060000
END:STANDARD
END:VTIMEZONE
BEGIN:VEVENT
DTSTART;TZID=America/New_York:20260203T120000
DTEND;TZID=America/New_York:20260203T130000
DTSTAMP:20260420T185822
CREATED:20260108T144149Z
LAST-MODIFIED:20260120T162801Z
UID:10000346-1770120000-1770123600@bryan.uncg.edu
SUMMARY:Company Spotlight Session: Qorvo (2/3/26)
DESCRIPTION:Join us for a Company Spotlight featuring Qorvo and learn how business strategy\, innovation\, and global operations support a leading semiconductor and technology company. \nThis session is ideal for business-minded students interested in analytics\, finance\, supply chain\, operations\, marketing\, information systems\, and management. You’ll gain insight into how Qorvo operates in a fast-paced\, technology-driven industry and how business functions partner with engineering and innovation teams to drive growth and efficiency. \nWhy attend? \n\nExplore business career paths within a global technology company\nLearn how data\, operations\, and strategy support cutting-edge innovation\nHear directly from professionals about in-demand skills and career pathways\nAsk questions and engage in an interactive discussion\n\nWhether you’re exploring corporate roles in technology\, interested in operations and analytics\, or curious about how business decisions shape innovation\, this Company Spotlight offers valuable real-world perspective. \nRegister for the event in Handshake: https://uncg.joinhandshake.com/events/1881084/share_preview
URL:https://bryan.uncg.edu/event/company-spotlight-session-qorvo-2-3-26/
LOCATION:Microsoft Teams
CATEGORIES:Company Spotlight
ATTACH;FMTTYPE=image/png:https://bryan.uncg.edu/wp-content/uploads/2025/01/New-Company-Spotlight.png
ORGANIZER;CN="Courtney Haynes":MAILTO:cchaynes@uncg.edu
END:VEVENT
BEGIN:VEVENT
DTSTART;TZID=America/New_York:20260204T120000
DTEND;TZID=America/New_York:20260204T130000
DTSTAMP:20260420T185822
CREATED:20260108T144340Z
LAST-MODIFIED:20260127T143437Z
UID:10000347-1770206400-1770210000@bryan.uncg.edu
SUMMARY:Company Spotlight Session: Flow Companies (Auto Group)(2/4/26)
DESCRIPTION:Join us for a Company Spotlight Session featuring Flow Companies (Auto Group) and explore how business strategy drives success in one of the nation’s leading automotive retail organizations. \nThis session is ideal for students interested in management\, sales\, marketing\, finance\, analytics\, operations\, supply chain\, and customer experience. You’ll gain insight into how Flow Companies operates across a large dealership network\, adapts to a rapidly evolving automotive industry\, and builds career pathways that blend business acumen with innovation and relationship management. \nWhy attend?\n• Learn how core business functions power a large\, multi-location automotive organization\n• Explore career paths within automotive retail\, corporate operations\, and leadership development\n• Hear directly from industry professionals about in-demand skills and how to stand out as a candidate\n• Ask questions and engage in an interactive discussion with Flow Companies leaders \nWhether you’re exploring career options or preparing for internships and full-time roles\, this Company Spotlight offers valuable real-world insight into how business principles translate into success within the automotive industry. \nRegister for the event in Handshake: https://uncg.joinhandshake.com/events/1890586/share_preview
URL:https://bryan.uncg.edu/event/company-spotlight-session-flow-companies/
LOCATION:Bryan Building – Room 225\, 516 Stirling Street\, Greensboro\, NC\, 27412\, United States
CATEGORIES:Company Spotlight
ATTACH;FMTTYPE=image/png:https://bryan.uncg.edu/wp-content/uploads/2025/01/New-Company-Spotlight.png
ORGANIZER;CN="Courtney Haynes":MAILTO:cchaynes@uncg.edu
END:VEVENT
BEGIN:VEVENT
DTSTART;TZID=America/New_York:20260210T120000
DTEND;TZID=America/New_York:20260210T130000
DTSTAMP:20260420T185822
CREATED:20260108T145152Z
LAST-MODIFIED:20260120T163929Z
UID:10000348-1770724800-1770728400@bryan.uncg.edu
SUMMARY:Company Spotlight Session: Bank of America (2/10/26)
DESCRIPTION:Join us for a Company Spotlight featuring Bank of America and learn how business strategy\, finance\, analytics\, and client-focused decision-making drive one of the world’s leading financial institutions. \nThis session is ideal for business-minded students interested in finance\, accounting\, analytics\, economics\, management\, marketing\, information systems\, and operations. You’ll gain insight into how Bank of America supports individuals\, businesses\, and communities while offering diverse career pathways across banking\, corporate functions\, and leadership development programs. \nWhy attend? \n\nExplore a wide range of business and finance career pathways\nLearn how data\, strategy\, and risk management inform decision-making\nHear directly from professionals about in-demand skills and early-career opportunities\nAsk questions and engage in an interactive discussion\n\nWhether you’re exploring careers in financial services or looking to understand how business principles are applied at scale\, this Company Spotlight offers valuable real-world perspective. \nRegister for the event in Handshake: https://uncg.joinhandshake.com/events/1881130/share_preview
URL:https://bryan.uncg.edu/event/company-spotlight-session-bank-of-america-2-10-26/
LOCATION:Microsoft Teams
CATEGORIES:Company Spotlight
ATTACH;FMTTYPE=image/png:https://bryan.uncg.edu/wp-content/uploads/2025/01/New-Company-Spotlight.png
END:VEVENT
BEGIN:VEVENT
DTSTART;TZID=America/New_York:20260211T120000
DTEND;TZID=America/New_York:20260211T130000
DTSTAMP:20260420T185822
CREATED:20260108T145740Z
LAST-MODIFIED:20260120T164019Z
UID:10000349-1770811200-1770814800@bryan.uncg.edu
SUMMARY:Company Spotlight Session: OpsVeda (2/11/26)
DESCRIPTION:Join us for a Company Spotlight featuring OpsVeda and learn how data\, analytics\, and AI-powered insights help organizations make smarter\, faster business decisions. \nThis session is ideal for students interested in business analytics\, information systems\, supply chain management\, operations\, data-driven strategy\, and technology consulting. You’ll gain insight into how OpsVeda works with global organizations to improve visibility\, resilience\, and performance across complex operations. \nWhy attend? \n\nExplore careers at the intersection of business\, data\, and technology\nLearn how analytics and AI support real-world decision-making\nHear directly from professionals about in-demand skills and career pathways\nAsk questions and engage in an interactive discussion\n\nWhether you’re interested in analytics\, consulting\, operations\, or tech-enabled business roles\, this Company Spotlight offers practical insight into how data drives impact at scale. \nRegister for the event in Handshake: https://uncg.joinhandshake.com/events/1881284/share_preview
URL:https://bryan.uncg.edu/event/company-spotlight-session-opsveda-2-11-26/
LOCATION:Bryan Building – Room 225\, 516 Stirling Street\, Greensboro\, NC\, 27412\, United States
CATEGORIES:Company Spotlight
ATTACH;FMTTYPE=image/png:https://bryan.uncg.edu/wp-content/uploads/2025/01/New-Company-Spotlight.png
ORGANIZER;CN="Courtney Haynes":MAILTO:cchaynes@uncg.edu
END:VEVENT
BEGIN:VEVENT
DTSTART;TZID=America/New_York:20260217T120000
DTEND;TZID=America/New_York:20260217T130000
DTSTAMP:20260420T185822
CREATED:20260108T150302Z
LAST-MODIFIED:20260120T164127Z
UID:10000350-1771329600-1771333200@bryan.uncg.edu
SUMMARY:Company Spotlight Session: TowneBank (2/17/26)
DESCRIPTION:Join us for a Company Spotlight featuring TowneBank and learn how relationship-based banking and strong community values drive business success. \nThis session is ideal for students interested in finance\, accounting\, management\, analytics\, economics\, marketing\, and operations. You’ll gain insight into how TowneBank balances financial performance with client service\, community engagement\, and long-term relationship building. \nWhy attend? \n\nExplore career pathways within relationship-focused banking\nLearn how business\, finance\, and customer strategy intersect\nHear directly from professionals about skills that matter and early-career opportunities\nAsk questions and engage in an interactive discussion\n\nWhether you’re interested in financial services\, client relationship management\, or applying your business degree in a values-driven organization\, this Company Spotlight offers meaningful career insight and real-world perspective. \nRegister for the event in Handshake: https://uncg.joinhandshake.com/events/1881298/share_preview \npany
URL:https://bryan.uncg.edu/event/company-spotlight-session-townebank-2-17-26/
LOCATION:Microsoft Teams
CATEGORIES:Company Spotlight
ATTACH;FMTTYPE=image/png:https://bryan.uncg.edu/wp-content/uploads/2025/01/New-Company-Spotlight.png
END:VEVENT
BEGIN:VEVENT
DTSTART;TZID=America/New_York:20260218T120000
DTEND;TZID=America/New_York:20260218T130000
DTSTAMP:20260420T185822
CREATED:20260108T150910Z
LAST-MODIFIED:20260120T164311Z
UID:10000351-1771416000-1771419600@bryan.uncg.edu
SUMMARY:Company Spotlight Session: NC Office of State Human Resources (2/18/26)
DESCRIPTION:Join us for a Company Spotlight featuring the NC Office of State Human Resources and learn how human resources strategy supports one of the largest and most complex workforces in North Carolina. \nThis session is ideal for students interested in human resources\, management\, analytics\, public administration\, operations\, finance\, and organizational leadership. You’ll gain insight into how NC OSHR drives workforce planning\, talent development\, compensation\, policy\, and employee engagement across state agencies. \nWhy attend? \n\nExplore HR and business career pathways in the public sector\nLearn how data\, policy\, and strategy shape workforce decisions\nHear directly from professionals about in-demand skills and career entry points\nAsk questions and engage in an interactive discussion\n\nWhether you’re interested in HR\, leadership\, analytics\, or mission-driven work\, this Company Spotlight offers valuable perspective on how business and people strategy operate at the state level. \nRegister for the event in Handshake: https://uncg.joinhandshake.com/events/1881698/share_preview
URL:https://bryan.uncg.edu/event/company-spotlight-session-nc-office-of-state-human-resources-2-18-26/
LOCATION:Bryan Building – Room 225\, 516 Stirling Street\, Greensboro\, NC\, 27412\, United States
CATEGORIES:Company Spotlight
ATTACH;FMTTYPE=image/png:https://bryan.uncg.edu/wp-content/uploads/2025/01/New-Company-Spotlight.png
ORGANIZER;CN="Courtney Haynes":MAILTO:cchaynes@uncg.edu
END:VEVENT
END:VCALENDAR