BEGIN:VCALENDAR
VERSION:2.0
PRODID:-//Bryan School of Business &amp; Economics - ECPv6.15.17//NONSGML v1.0//EN
CALSCALE:GREGORIAN
METHOD:PUBLISH
X-ORIGINAL-URL:https://bryan.uncg.edu
X-WR-CALDESC:Events for Bryan School of Business &amp; Economics
REFRESH-INTERVAL;VALUE=DURATION:PT1H
X-Robots-Tag:noindex
X-PUBLISHED-TTL:PT1H
BEGIN:VTIMEZONE
TZID:America/New_York
BEGIN:DAYLIGHT
TZOFFSETFROM:-0500
TZOFFSETTO:-0400
TZNAME:EDT
DTSTART:20240310T070000
END:DAYLIGHT
BEGIN:STANDARD
TZOFFSETFROM:-0400
TZOFFSETTO:-0500
TZNAME:EST
DTSTART:20241103T060000
END:STANDARD
BEGIN:DAYLIGHT
TZOFFSETFROM:-0500
TZOFFSETTO:-0400
TZNAME:EDT
DTSTART:20250309T070000
END:DAYLIGHT
BEGIN:STANDARD
TZOFFSETFROM:-0400
TZOFFSETTO:-0500
TZNAME:EST
DTSTART:20251102T060000
END:STANDARD
BEGIN:DAYLIGHT
TZOFFSETFROM:-0500
TZOFFSETTO:-0400
TZNAME:EDT
DTSTART:20260308T070000
END:DAYLIGHT
BEGIN:STANDARD
TZOFFSETFROM:-0400
TZOFFSETTO:-0500
TZNAME:EST
DTSTART:20261101T060000
END:STANDARD
END:VTIMEZONE
BEGIN:VEVENT
DTSTART;TZID=America/New_York:20250218T173000
DTEND;TZID=America/New_York:20250218T190000
DTSTAMP:20260420T233508
CREATED:20250205T155208Z
LAST-MODIFIED:20250205T161044Z
UID:10000230-1739899800-1739905200@bryan.uncg.edu
SUMMARY:Bryan Black Excellence in Business
DESCRIPTION:Join us for the Bryan Black Excellence in Business event\, an evening dedicated to celebrating and showcasing outstanding \nBlack business leaders who are making a significant impact in their industries and communities. \nThis event provides students with a powerful opportunity to learn from accomplished professionals\,\n gain insights into their journeys\, and explore pathways to success in the world of business.\nThrough engaging discussions and networking opportunities\, attendees will hear firsthand from leaders who have navigated challenges\,\nbuilt thriving enterprises\, and paved the way for future generations. Whether you are a student\, faculty member\, or aspiring entrepreneur\, \nthis event will inspire and empower you to pursue excellence in business.\nDon’t miss this chance to connect\, learn\, and celebrate Black excellence in business!
URL:https://bryan.uncg.edu/event/bryan-black-excellence-in-business/
LOCATION:EUC\, 507 Stirling St\, Greensboro\, NC\, 27412\, United States
CATEGORIES:Alumni,Graduate Students,Undergraduate Students
ATTACH;FMTTYPE=image/png:https://bryan.uncg.edu/wp-content/uploads/2025/02/Black-Excellence-In-Business.png
END:VEVENT
END:VCALENDAR