BEGIN:VCALENDAR
VERSION:2.0
PRODID:-//Bryan School of Business &amp; Economics - ECPv6.15.17//NONSGML v1.0//EN
CALSCALE:GREGORIAN
METHOD:PUBLISH
X-WR-CALNAME:Bryan School of Business &amp; Economics
X-ORIGINAL-URL:https://bryan.uncg.edu
X-WR-CALDESC:Events for Bryan School of Business &amp; Economics
REFRESH-INTERVAL;VALUE=DURATION:PT1H
X-Robots-Tag:noindex
X-PUBLISHED-TTL:PT1H
BEGIN:VTIMEZONE
TZID:America/New_York
BEGIN:DAYLIGHT
TZOFFSETFROM:-0500
TZOFFSETTO:-0400
TZNAME:EDT
DTSTART:20230312T070000
END:DAYLIGHT
BEGIN:STANDARD
TZOFFSETFROM:-0400
TZOFFSETTO:-0500
TZNAME:EST
DTSTART:20231105T060000
END:STANDARD
BEGIN:DAYLIGHT
TZOFFSETFROM:-0500
TZOFFSETTO:-0400
TZNAME:EDT
DTSTART:20240310T070000
END:DAYLIGHT
BEGIN:STANDARD
TZOFFSETFROM:-0400
TZOFFSETTO:-0500
TZNAME:EST
DTSTART:20241103T060000
END:STANDARD
BEGIN:DAYLIGHT
TZOFFSETFROM:-0500
TZOFFSETTO:-0400
TZNAME:EDT
DTSTART:20250309T070000
END:DAYLIGHT
BEGIN:STANDARD
TZOFFSETFROM:-0400
TZOFFSETTO:-0500
TZNAME:EST
DTSTART:20251102T060000
END:STANDARD
END:VTIMEZONE
BEGIN:VEVENT
DTSTART;TZID=America/New_York:20240509T120000
DTEND;TZID=America/New_York:20240509T133000
DTSTAMP:20260421T063156
CREATED:20231219T183931Z
LAST-MODIFIED:20231219T183931Z
UID:10000052-1715256000-1715261400@bryan.uncg.edu
SUMMARY:Virtual Information Session for Bryan Graduate Programs
DESCRIPTION:Virtual information sessions are a great way to learn more about Bryan School Master’s and Certificate programs. \nDuring these sessions\, attendees will have the opportunity to: \n\nMeet with faculty and program leaders.\nHear from current students.\nDiscover our degree offerings\, specialized coursework\, and flexible scheduling options.\nLearn about admissions requirements\, financial aid\, and scholarship options.\nDiscuss application questions with admissions staff.\nAnd more!\n\nRegister in advance to receive the event link.
URL:https://bryan.uncg.edu/event/virtual-information-session-for-bryan-graduate-programs-8/
LOCATION:Online
CATEGORIES:Graduate Recruitment
ATTACH;FMTTYPE=image/jpeg:https://bryan.uncg.edu/wp-content/uploads/2023/08/Virtual_Info-240x240-1-e1751488687137.jpg
ORGANIZER;CN="Jennifer Kiger Chapman":MAILTO:Jennifer-BryanGrad@uncg.edu
END:VEVENT
BEGIN:VEVENT
DTSTART;TZID=America/New_York:20240514T120000
DTEND;TZID=America/New_York:20240514T130000
DTSTAMP:20260421T063156
CREATED:20231219T183618Z
LAST-MODIFIED:20250409T173544Z
UID:10000045-1715688000-1715691600@bryan.uncg.edu
SUMMARY:Mastering Your Graduate Program Application
DESCRIPTION:Submitting your grad school application may seem like a daunting task\, but the earlier you submit your application\, the more options you will have for course selection and financial aid. Applications are reviewed on a rolling basis\, so you can expect a decision within 2-4 weeks of submission. To help ensure that you’re ready to hit the “submit” button\, the Bryan School Graduate Recruitment Team will share tips on how you can create a successful business school application. During the webinar\, attendees will learn more about: \n\nRolling admissions and deadlines\nSupporting documents\nRecommendations and tips for a successful application\nWhat to expect throughout the admissions process\nAnd more!\n\nRegister in advance to receive the event access link.
URL:https://bryan.uncg.edu/event/mastering-your-graduate-program-application-9/
LOCATION:Online
CATEGORIES:Graduate Recruitment
ATTACH;FMTTYPE=image/jpeg:https://bryan.uncg.edu/wp-content/uploads/2023/08/webinar-240x240-1-e1751488899693.jpg
ORGANIZER;CN="Jennifer Kiger Chapman":MAILTO:Jennifer-BryanGrad@uncg.edu
END:VEVENT
BEGIN:VEVENT
DTSTART;TZID=America/New_York:20240515T190000
DTEND;TZID=America/New_York:20240515T200000
DTSTAMP:20260421T063156
CREATED:20240111T214250Z
LAST-MODIFIED:20240307T194820Z
UID:10000081-1715799600-1715803200@bryan.uncg.edu
SUMMARY:Bryan Online Undergraduate Program Info Session
DESCRIPTION:Interested in pursuing or completing your bachelor’s degree? Join us for an informative virtual session during which you will have the opportunity to explore the exceptional online program options available at the UNC Greensboro Bryan School of Business and Economics.\nDuring this session\, we will delve into the following key topics: \n\nGuidance on application deadlines and when to apply\nA step-by-step breakdown of the application process\nA comprehensive overview of our online program structure\nAn in-depth understanding of our program’s flexibility\nAn exploration of diverse program options\, including the types of classes you can expect to take\n\nWe hope you can join us so we can aid you in making an informed decision regarding your academic journey! \nLoading…
URL:https://bryan.uncg.edu/event/online-undergraduate-program-info-session-5/
LOCATION:Online
CATEGORIES:uncg_main,Undergraduate Recruitment
ATTACH;FMTTYPE=image/jpeg:https://bryan.uncg.edu/wp-content/uploads/2023/10/Evening_Info.jpg
ORGANIZER;CN="Bryan Online Programs":MAILTO:bryanonline@uncg.edu
END:VEVENT
BEGIN:VEVENT
DTSTART;TZID=America/New_York:20240523T120000
DTEND;TZID=America/New_York:20240523T130000
DTSTAMP:20260421T063156
CREATED:20231219T184156Z
LAST-MODIFIED:20231219T184156Z
UID:10000058-1716465600-1716469200@bryan.uncg.edu
SUMMARY:Finance & Funding Webinar for Bryan Graduate Programs
DESCRIPTION:Let us help you make a plan for funding your graduate program. In this webinar\, our graduate program recruitment team will discuss finance and funding options available for Bryan School graduate programs. The presentation and discussion will include options for domestic and international students such as: \n\nTuition and fee bill timeline\nPayment methods and payment plan options\nFinance options such as financial aid and loans\nScholarships and graduate assistantships\nAnd other funding options used by current graduate program students\n\nRegister in advance to receive the event access link.
URL:https://bryan.uncg.edu/event/finance-funding-webinar-for-bryan-graduate-programs-7/
LOCATION:Zoom
CATEGORIES:Graduate Recruitment
ATTACH;FMTTYPE=image/jpeg:https://bryan.uncg.edu/wp-content/uploads/2023/08/pexels-photo-7491011-240x240-1-e1751489021214.jpeg
ORGANIZER;CN="Jennifer Kiger Chapman":MAILTO:Jennifer-BryanGrad@uncg.edu
END:VEVENT
BEGIN:VEVENT
DTSTART;TZID=America/New_York:20240529T120000
DTEND;TZID=America/New_York:20240529T130000
DTSTAMP:20260421T063156
CREATED:20240106T154419Z
LAST-MODIFIED:20240106T154419Z
UID:10000062-1716984000-1716987600@bryan.uncg.edu
SUMMARY:Meet a Spartan: Q & A with Bryan Graduate Students
DESCRIPTION:Curious about the ins and outs of graduate student life? Meet with current Bryan School graduate students and learn more about what influenced them to go to graduate school\, how many hours per week they spend studying\, what types of jobs they have outside of school\, and much more. \nYou’ll also have the opportunity to ask your own questions. Graduate student ambassadors from a variety of graduate programs will share their personal experiences as well as some tips for future graduate students. \nRegister in advance to receive the event access link.
URL:https://bryan.uncg.edu/event/meet-a-spartan-q-a-with-bryan-graduate-students/
LOCATION:Online
CATEGORIES:Graduate Recruitment
ATTACH;FMTTYPE=image/jpeg:https://bryan.uncg.edu/wp-content/uploads/2023/08/Virtual_Info-240x240-1-e1751488687137.jpg
ORGANIZER;CN="Jennifer Kiger Chapman":MAILTO:Jennifer-BryanGrad@uncg.edu
END:VEVENT
BEGIN:VEVENT
DTSTART;TZID=America/New_York:20240531T120000
DTEND;TZID=America/New_York:20240531T130000
DTSTAMP:20260421T063156
CREATED:20240523T141454Z
LAST-MODIFIED:20240523T141454Z
UID:10000089-1717156800-1717160400@bryan.uncg.edu
SUMMARY:Bryan Online Undergraduate Program Info Session
DESCRIPTION:Interested in pursuing or completing your bachelor’s degree? Join us for an informative virtual session during which you will have the opportunity to explore the exceptional online program options available at the UNC Greensboro Bryan School of Business and Economics.\nDuring this session\, we will delve into the following key topics: \n\nGuidance on application deadlines and when to apply\nA step-by-step breakdown of the application process\nA comprehensive overview of our online program structure\nAn in-depth understanding of our program’s flexibility\nAn exploration of diverse program options\, including the types of classes you can expect to take\n\nWe hope you can join us so we can aid you in making an informed decision regarding your academic journey! \nLoading…
URL:https://bryan.uncg.edu/event/bryan-online-undergraduate-program-info-session-6/
LOCATION:Online
CATEGORIES:uncg_main,Undergraduate Recruitment
ATTACH;FMTTYPE=image/jpeg:https://bryan.uncg.edu/wp-content/uploads/2023/10/Evening_Info.jpg
ORGANIZER;CN="Bryan Online Programs":MAILTO:bryanonline@uncg.edu
END:VEVENT
END:VCALENDAR