BEGIN:VCALENDAR
VERSION:2.0
PRODID:-//Bryan School of Business &amp; Economics - ECPv6.15.17//NONSGML v1.0//EN
CALSCALE:GREGORIAN
METHOD:PUBLISH
X-WR-CALNAME:Bryan School of Business &amp; Economics
X-ORIGINAL-URL:https://bryan.uncg.edu
X-WR-CALDESC:Events for Bryan School of Business &amp; Economics
REFRESH-INTERVAL;VALUE=DURATION:PT1H
X-Robots-Tag:noindex
X-PUBLISHED-TTL:PT1H
BEGIN:VTIMEZONE
TZID:America/New_York
BEGIN:DAYLIGHT
TZOFFSETFROM:-0500
TZOFFSETTO:-0400
TZNAME:EDT
DTSTART:20230312T070000
END:DAYLIGHT
BEGIN:STANDARD
TZOFFSETFROM:-0400
TZOFFSETTO:-0500
TZNAME:EST
DTSTART:20231105T060000
END:STANDARD
BEGIN:DAYLIGHT
TZOFFSETFROM:-0500
TZOFFSETTO:-0400
TZNAME:EDT
DTSTART:20240310T070000
END:DAYLIGHT
BEGIN:STANDARD
TZOFFSETFROM:-0400
TZOFFSETTO:-0500
TZNAME:EST
DTSTART:20241103T060000
END:STANDARD
BEGIN:DAYLIGHT
TZOFFSETFROM:-0500
TZOFFSETTO:-0400
TZNAME:EDT
DTSTART:20250309T070000
END:DAYLIGHT
BEGIN:STANDARD
TZOFFSETFROM:-0400
TZOFFSETTO:-0500
TZNAME:EST
DTSTART:20251102T060000
END:STANDARD
END:VTIMEZONE
BEGIN:VEVENT
DTSTART;TZID=America/New_York:20241105T120000
DTEND;TZID=America/New_York:20241105T130000
DTSTAMP:20260421T031058
CREATED:20230919T161443Z
LAST-MODIFIED:20240715T174305Z
UID:10000019-1730808000-1730811600@bryan.uncg.edu
SUMMARY:Enterprise Mobility Company Spotlight
DESCRIPTION:Enterprise Mobility is an American private holding company. They are consistently looking for interns for their internship program\, which generally lead to full-time positions. \nEnterprise has a robust management trainee program that teaches students professional skills to learn how to successfully manage their own multimillion dollar business. With a variety of growth and promotional opportunities\, Enterprise has a unique promote-from-within culture to ensure you’ll always progress and flourish professionally. \nIf you’re interested in learning more about Enterprise and meeting their recruiting team\, be sure to attend this virtual event! \nClick Here to Register!
URL:https://bryan.uncg.edu/event/enterprise-company-spotlight/
LOCATION:Microsoft Teams
CATEGORIES:Company Spotlight
ATTACH;FMTTYPE=image/jpeg:https://bryan.uncg.edu/wp-content/uploads/2023/07/Company_Spotlights.jpg
ORGANIZER;CN="Jaap-Jan van Duin":MAILTO:j_vandui@uncg.edu
END:VEVENT
BEGIN:VEVENT
DTSTART;TZID=America/New_York:20241106T120000
DTEND;TZID=America/New_York:20241106T130000
DTSTAMP:20260421T031058
CREATED:20240701T185556Z
LAST-MODIFIED:20240715T201207Z
UID:10000137-1730894400-1730898000@bryan.uncg.edu
SUMMARY:Cone Health
DESCRIPTION:Cone Health is a private\, not-for-profit healthcare delivery system based in Greensboro\, North Carolina. As one of the region’s largest and most comprehensive health networks\, Cone Health has more than 150 locations\, including five hospitals\, six ambulatory care centers\, three outpatient surgery centers\, eight urgent care centers\, two retirement communities and more than 120 physician practices. \nCone Health also offers an Administrative Fellowship and Internships for most business majors. \nIf you’re interested in learning more about Cone Health and meeting their recruiting team\, be sure to attend this in-person event! \nClick Here to Register!
URL:https://bryan.uncg.edu/event/cone-health/
LOCATION:Bryan Building – Room 225\, 516 Stirling Street\, Greensboro\, NC\, 27412\, United States
CATEGORIES:Company Spotlight
ORGANIZER;CN="Jaap-Jan van Duin":MAILTO:j_vandui@uncg.edu
END:VEVENT
BEGIN:VEVENT
DTSTART;TZID=America/New_York:20241112T120000
DTEND;TZID=America/New_York:20241112T130000
DTSTAMP:20260421T031058
CREATED:20240109T151732Z
LAST-MODIFIED:20240715T174225Z
UID:10000064-1731412800-1731416400@bryan.uncg.edu
SUMMARY:Arch MI Company Spotlight
DESCRIPTION:Arch MI is a leading provider of mortgage insurance in the US\, and is based in downtown Greensboro\, NC. Recruiters will be presenting virtually on their Internship programs and full time roles. \nArch MI is continuously looking for exceptional talent. If you’re interested in learning more about Arch MI and meeting their hiring team\, be sure to attend this virtual event! \nClick Here to Register!
URL:https://bryan.uncg.edu/event/138621/
LOCATION:Microsoft Teams
CATEGORIES:Company Spotlight
ATTACH;FMTTYPE=image/jpeg:https://bryan.uncg.edu/wp-content/uploads/2023/07/Company_Spotlights.jpg
ORGANIZER;CN="Jaap-Jan van Duin":MAILTO:j_vandui@uncg.edu
END:VEVENT
BEGIN:VEVENT
DTSTART;TZID=America/New_York:20241113T120000
DTEND;TZID=America/New_York:20241113T130000
DTSTAMP:20260421T031058
CREATED:20240701T190859Z
LAST-MODIFIED:20241107T175350Z
UID:10000138-1731499200-1731502800@bryan.uncg.edu
SUMMARY:AAA – the AutoClub Group
DESCRIPTION:AAA – the AutoClub Group was founded over 115 years ago for the purpose of lobbying for driver and passenger rights\, fair laws and safer vehicles — all to better promote the love of the open road and the adventure of driving. Since then\, AAA – the AutoClub Group has grown to over 60 million members strong\, while providing valuable membership services such as roadside assistance. \nWith locations across the US and ample career opportunities\, AAA – the AutoClub Group is always looking for exceptional talent to join their team. \nIf you’re interested in learning more about AAA – the AutoClub Group and meeting their hiring team\, be sure to attend this in-person event! \nClick Here to Register!
URL:https://bryan.uncg.edu/event/aaa-carolinas/
LOCATION:Bryan Building – Room 225\, 516 Stirling Street\, Greensboro\, NC\, 27412\, United States
CATEGORIES:Company Spotlight
ORGANIZER;CN="Jaap-Jan van Duin":MAILTO:j_vandui@uncg.edu
END:VEVENT
BEGIN:VEVENT
DTSTART;TZID=America/New_York:20241120T120000
DTEND;TZID=America/New_York:20241120T130000
DTSTAMP:20260421T031058
CREATED:20240701T191448Z
LAST-MODIFIED:20240715T200931Z
UID:10000139-1732104000-1732107600@bryan.uncg.edu
SUMMARY:Furnitureland South
DESCRIPTION:Furnitureland South in Jamestown\, North Carolina is the largest retail furniture store in the United States with 1.3 million square feet\, and top brands and designers.  \nFurnitureland South has several internship and full time job opportunities available\, and are always looking for exceptional talent to join their team.  \nIf you’re interested in learning more about Furnitureland South and meeting their hiring team\, be sure to attend this in-person event! \nClick Here to Register!
URL:https://bryan.uncg.edu/event/furnitureland-south/
LOCATION:Bryan Building – Room 225\, 516 Stirling Street\, Greensboro\, NC\, 27412\, United States
CATEGORIES:Company Spotlight
ORGANIZER;CN="Jaap-Jan van Duin":MAILTO:j_vandui@uncg.edu
END:VEVENT
END:VCALENDAR