BEGIN:VCALENDAR
VERSION:2.0
PRODID:-//Bryan School of Business &amp; Economics - ECPv6.15.17//NONSGML v1.0//EN
CALSCALE:GREGORIAN
METHOD:PUBLISH
X-ORIGINAL-URL:https://bryan.uncg.edu
X-WR-CALDESC:Events for Bryan School of Business &amp; Economics
REFRESH-INTERVAL;VALUE=DURATION:PT1H
X-Robots-Tag:noindex
X-PUBLISHED-TTL:PT1H
BEGIN:VTIMEZONE
TZID:America/New_York
BEGIN:DAYLIGHT
TZOFFSETFROM:-0500
TZOFFSETTO:-0400
TZNAME:EDT
DTSTART:20230312T070000
END:DAYLIGHT
BEGIN:STANDARD
TZOFFSETFROM:-0400
TZOFFSETTO:-0500
TZNAME:EST
DTSTART:20231105T060000
END:STANDARD
BEGIN:DAYLIGHT
TZOFFSETFROM:-0500
TZOFFSETTO:-0400
TZNAME:EDT
DTSTART:20240310T070000
END:DAYLIGHT
BEGIN:STANDARD
TZOFFSETFROM:-0400
TZOFFSETTO:-0500
TZNAME:EST
DTSTART:20241103T060000
END:STANDARD
BEGIN:DAYLIGHT
TZOFFSETFROM:-0500
TZOFFSETTO:-0400
TZNAME:EDT
DTSTART:20250309T070000
END:DAYLIGHT
BEGIN:STANDARD
TZOFFSETFROM:-0400
TZOFFSETTO:-0500
TZNAME:EST
DTSTART:20251102T060000
END:STANDARD
END:VTIMEZONE
BEGIN:VEVENT
DTSTART;TZID=America/New_York:20240326T120000
DTEND;TZID=America/New_York:20240326T130000
DTSTAMP:20260422T003107
CREATED:20231219T183534Z
LAST-MODIFIED:20231219T183534Z
UID:10000043-1711454400-1711458000@bryan.uncg.edu
SUMMARY:Mastering Your Graduate Program Application
DESCRIPTION:Submitting your grad school application may seem like a daunting task\, but the earlier you submit your application\, the more options you will have for course selection and financial aid. Applications are reviewed on a rolling basis\, so you can expect a decision within 2-4 weeks of submission. To help ensure that you’re ready to hit the “submit” button\, the Bryan School Graduate Recruitment Team will share tips on how you can create a successful business school application. During the webinar\, attendees will learn more about: \n\nRolling admissions and deadlines\nSupporting documents\nRecommendations and tips for a successful application\nWhat to expect throughout the admissions process\nAnd more!\n\nRegister in advance to receive the event access link.
URL:https://bryan.uncg.edu/event/mastering-your-graduate-program-application-7/
LOCATION:Online
CATEGORIES:Graduate Recruitment
ATTACH;FMTTYPE=image/jpeg:https://bryan.uncg.edu/wp-content/uploads/2023/08/webinar-240x240-1-e1751488899693.jpg
ORGANIZER;CN="Jennifer Kiger Chapman":MAILTO:Jennifer-BryanGrad@uncg.edu
END:VEVENT
BEGIN:VEVENT
DTSTART;TZID=America/New_York:20240327T120000
DTEND;TZID=America/New_York:20240327T130000
DTSTAMP:20260422T003107
CREATED:20240315T202650Z
LAST-MODIFIED:20240315T202650Z
UID:10000083-1711540800-1711544400@bryan.uncg.edu
SUMMARY:Bryan Online Undergraduate Program Info Session
DESCRIPTION:Interested in pursuing or completing your bachelor’s degree? Join us for an informative virtual session during which you will have the opportunity to explore the exceptional online program options available at the UNC Greensboro Bryan School of Business and Economics.\nDuring this session\, we will delve into the following key topics: \n\nGuidance on application deadlines and when to apply\nA step-by-step breakdown of the application process\nA comprehensive overview of our online program structure\nAn in-depth understanding of our program’s flexibility\nAn exploration of diverse program options\, including the types of classes you can expect to take\n\nWe hope you can join us so we can aid you in making an informed decision regarding your academic journey! \nLoading…\nLoading…
URL:https://bryan.uncg.edu/event/bryan-online-undergraduate-program-info-session/
LOCATION:Online
CATEGORIES:uncg_main,Undergraduate Recruitment
ATTACH;FMTTYPE=image/jpeg:https://bryan.uncg.edu/wp-content/uploads/2023/10/Evening_Info.jpg
ORGANIZER;CN="Bryan Online Programs":MAILTO:bryanonline@uncg.edu
END:VEVENT
BEGIN:VEVENT
DTSTART;TZID=America/New_York:20240327T173000
DTEND;TZID=America/New_York:20240327T193000
DTSTAMP:20260422T003107
CREATED:20240320T183252Z
LAST-MODIFIED:20240320T184137Z
UID:10000088-1711560600-1711567800@bryan.uncg.edu
SUMMARY:UNCG Transfer Information Program
DESCRIPTION:Join us for our virtual Transfer Information Program (TIP) happening on Wednesday\, March 27\, 2024\, at 5:30 PM until 7:30 PM. \nDon’t miss a great opportunity to find out about UNC Greensboro! The Office of Undergraduate Admissions invites prospective transfer and adult students to attend our virtual session for a chance to talk to transfer articulation specialists\, financial aid representatives\, and admissions counselors in a virtual environment. You’ll learn about the admission process\, transfer credit evaluations\, and financial aid through presentations and open discussions. Attendees receive a $65 application fee waiver to use towards the FALL 2024 semester. \n Click Here to Register!
URL:https://bryan.uncg.edu/event/uncg-transfer-information-program/
LOCATION:Bryan School of Business and Economics\, 516 Stirling Street\, Greensboro\, NC\, 27412\, United States
CATEGORIES:Undergraduate Recruitment
ATTACH;FMTTYPE=image/jpeg:https://bryan.uncg.edu/wp-content/uploads/2023/10/Lunch_and_Learn.jpg
END:VEVENT
END:VCALENDAR