BEGIN:VCALENDAR
VERSION:2.0
PRODID:-//Bryan School of Business &amp; Economics - ECPv6.15.17//NONSGML v1.0//EN
CALSCALE:GREGORIAN
METHOD:PUBLISH
X-ORIGINAL-URL:https://bryan.uncg.edu
X-WR-CALDESC:Events for Bryan School of Business &amp; Economics
REFRESH-INTERVAL;VALUE=DURATION:PT1H
X-Robots-Tag:noindex
X-PUBLISHED-TTL:PT1H
BEGIN:VTIMEZONE
TZID:America/New_York
BEGIN:DAYLIGHT
TZOFFSETFROM:-0500
TZOFFSETTO:-0400
TZNAME:EDT
DTSTART:20230312T070000
END:DAYLIGHT
BEGIN:STANDARD
TZOFFSETFROM:-0400
TZOFFSETTO:-0500
TZNAME:EST
DTSTART:20231105T060000
END:STANDARD
BEGIN:DAYLIGHT
TZOFFSETFROM:-0500
TZOFFSETTO:-0400
TZNAME:EDT
DTSTART:20240310T070000
END:DAYLIGHT
BEGIN:STANDARD
TZOFFSETFROM:-0400
TZOFFSETTO:-0500
TZNAME:EST
DTSTART:20241103T060000
END:STANDARD
BEGIN:DAYLIGHT
TZOFFSETFROM:-0500
TZOFFSETTO:-0400
TZNAME:EDT
DTSTART:20250309T070000
END:DAYLIGHT
BEGIN:STANDARD
TZOFFSETFROM:-0400
TZOFFSETTO:-0500
TZNAME:EST
DTSTART:20251102T060000
END:STANDARD
END:VTIMEZONE
BEGIN:VEVENT
DTSTART;TZID=America/New_York:20241105T120000
DTEND;TZID=America/New_York:20241105T130000
DTSTAMP:20260424T092525
CREATED:20230919T161443Z
LAST-MODIFIED:20240715T174305Z
UID:10000019-1730808000-1730811600@bryan.uncg.edu
SUMMARY:Enterprise Mobility Company Spotlight
DESCRIPTION:Enterprise Mobility is an American private holding company. They are consistently looking for interns for their internship program\, which generally lead to full-time positions. \nEnterprise has a robust management trainee program that teaches students professional skills to learn how to successfully manage their own multimillion dollar business. With a variety of growth and promotional opportunities\, Enterprise has a unique promote-from-within culture to ensure you’ll always progress and flourish professionally. \nIf you’re interested in learning more about Enterprise and meeting their recruiting team\, be sure to attend this virtual event! \nClick Here to Register!
URL:https://bryan.uncg.edu/event/enterprise-company-spotlight/
LOCATION:Microsoft Teams
CATEGORIES:Company Spotlight
ATTACH;FMTTYPE=image/jpeg:https://bryan.uncg.edu/wp-content/uploads/2023/07/Company_Spotlights.jpg
ORGANIZER;CN="Jaap-Jan van Duin":MAILTO:j_vandui@uncg.edu
END:VEVENT
BEGIN:VEVENT
DTSTART;TZID=America/New_York:20241105T120000
DTEND;TZID=America/New_York:20241105T130000
DTSTAMP:20260424T092525
CREATED:20240627T124345Z
LAST-MODIFIED:20240627T124716Z
UID:10000108-1730808000-1730811600@bryan.uncg.edu
SUMMARY:Mastering Your Graduate Program Application
DESCRIPTION:Submitting your grad school application may seem like a daunting task\, but the earlier you submit your application\, the more options you will have for course selection and financial aid. Applications are reviewed on a rolling basis\, so you can expect a decision within 2-4 weeks of submission. To help ensure that you’re ready to hit the “submit” button\, the Bryan School Graduate Recruitment Team will share tips on how you can create a successful business school application. During the webinar\, attendees will learn more about: \n\nRolling admissions and deadlines\nSupporting documents\nRecommendations and tips for a successful application\nWhat to expect throughout the admissions process\nAnd more!\n\nRegister in advance to receive the event access link.
URL:https://bryan.uncg.edu/event/mastering-your-graduate-program-application-11/2024-11-05/
LOCATION:Online
CATEGORIES:Graduate Recruitment
ATTACH;FMTTYPE=image/jpeg:https://bryan.uncg.edu/wp-content/uploads/2023/08/webinar-240x240-1-e1751488899693.jpg
ORGANIZER;CN="Jennifer Kiger Chapman":MAILTO:Jennifer-BryanGrad@uncg.edu
END:VEVENT
BEGIN:VEVENT
DTSTART;TZID=America/New_York:20241106T120000
DTEND;TZID=America/New_York:20241106T130000
DTSTAMP:20260424T092525
CREATED:20240701T185556Z
LAST-MODIFIED:20240715T201207Z
UID:10000137-1730894400-1730898000@bryan.uncg.edu
SUMMARY:Cone Health
DESCRIPTION:Cone Health is a private\, not-for-profit healthcare delivery system based in Greensboro\, North Carolina. As one of the region’s largest and most comprehensive health networks\, Cone Health has more than 150 locations\, including five hospitals\, six ambulatory care centers\, three outpatient surgery centers\, eight urgent care centers\, two retirement communities and more than 120 physician practices. \nCone Health also offers an Administrative Fellowship and Internships for most business majors. \nIf you’re interested in learning more about Cone Health and meeting their recruiting team\, be sure to attend this in-person event! \nClick Here to Register!
URL:https://bryan.uncg.edu/event/cone-health/
LOCATION:Bryan Building – Room 225\, 516 Stirling Street\, Greensboro\, NC\, 27412\, United States
CATEGORIES:Company Spotlight
ORGANIZER;CN="Jaap-Jan van Duin":MAILTO:j_vandui@uncg.edu
END:VEVENT
BEGIN:VEVENT
DTSTART;TZID=America/New_York:20241107T120000
DTEND;TZID=America/New_York:20241107T130000
DTSTAMP:20260424T092525
CREATED:20240627T133654Z
LAST-MODIFIED:20240627T133654Z
UID:10000115-1730980800-1730984400@bryan.uncg.edu
SUMMARY:Finance & Funding Webinar for Bryan Graduate Programs
DESCRIPTION:Let us help you make a plan for funding your graduate program. In this webinar\, our graduate program recruitment team will discuss finance and funding options available for Bryan School graduate programs. The presentation and discussion will include options for domestic and international students such as: \n\nTuition and fee bill timeline\nPayment methods and payment plan options\nFinance options such as financial aid and loans\nScholarships and graduate assistantships\nAnd other funding options used by current graduate program students\n\nRegister in advance to receive the event access link.
URL:https://bryan.uncg.edu/event/finance-funding-webinar-for-bryan-graduate-programs-9/2024-11-07/
LOCATION:Zoom
CATEGORIES:Graduate Recruitment
ATTACH;FMTTYPE=image/jpeg:https://bryan.uncg.edu/wp-content/uploads/2023/08/pexels-photo-7491011-240x240-1-e1751489021214.jpeg
ORGANIZER;CN="Jennifer Kiger Chapman":MAILTO:Jennifer-BryanGrad@uncg.edu
END:VEVENT
END:VCALENDAR