BEGIN:VCALENDAR
VERSION:2.0
PRODID:-//Bryan School of Business &amp; Economics - ECPv6.15.17//NONSGML v1.0//EN
CALSCALE:GREGORIAN
METHOD:PUBLISH
X-WR-CALNAME:Bryan School of Business &amp; Economics
X-ORIGINAL-URL:https://bryan.uncg.edu
X-WR-CALDESC:Events for Bryan School of Business &amp; Economics
REFRESH-INTERVAL;VALUE=DURATION:PT1H
X-Robots-Tag:noindex
X-PUBLISHED-TTL:PT1H
BEGIN:VTIMEZONE
TZID:America/New_York
BEGIN:DAYLIGHT
TZOFFSETFROM:-0500
TZOFFSETTO:-0400
TZNAME:EDT
DTSTART:20240310T070000
END:DAYLIGHT
BEGIN:STANDARD
TZOFFSETFROM:-0400
TZOFFSETTO:-0500
TZNAME:EST
DTSTART:20241103T060000
END:STANDARD
BEGIN:DAYLIGHT
TZOFFSETFROM:-0500
TZOFFSETTO:-0400
TZNAME:EDT
DTSTART:20250309T070000
END:DAYLIGHT
BEGIN:STANDARD
TZOFFSETFROM:-0400
TZOFFSETTO:-0500
TZNAME:EST
DTSTART:20251102T060000
END:STANDARD
BEGIN:DAYLIGHT
TZOFFSETFROM:-0500
TZOFFSETTO:-0400
TZNAME:EDT
DTSTART:20260308T070000
END:DAYLIGHT
BEGIN:STANDARD
TZOFFSETFROM:-0400
TZOFFSETTO:-0500
TZNAME:EST
DTSTART:20261101T060000
END:STANDARD
END:VTIMEZONE
BEGIN:VEVENT
DTSTART;TZID=America/New_York:20250128T120000
DTEND;TZID=America/New_York:20250128T130000
DTSTAMP:20260422T080604
CREATED:20250121T150227Z
LAST-MODIFIED:20250123T173053Z
UID:10000217-1738065600-1738069200@bryan.uncg.edu
SUMMARY:Sherwin-Williams Company Spotlight 1.28.25
DESCRIPTION:The Company Spotlight Series offers Bryan School students a unique\, hands-on opportunity to gain valuable industry insights directly from employers. \nIn this particular session we highlight Sherwin-Williams. \nThe Sherwin-Williams Company delivers the best in paint and coatings products to the world offering industry-leading innovation\, value-added service and expertise\, and differentiated distribution to their growing base of professional\, industrial\, commercial and consumer customers. \nThis session will focus on learning about the robust internship program offered to students\, as well as career path options with this globally-recognized organization. \n Click Here to Register!
URL:https://bryan.uncg.edu/event/sherwin-williams-company-spotlight-1-28-25/
CATEGORIES:Company Spotlight
ATTACH;FMTTYPE=image/jpeg:https://bryan.uncg.edu/wp-content/uploads/2023/07/Company_Spotlights.jpg
LOCATION:https://teams.microsoft.com/l/meetup-join/19%3ameeting_ZjM1NTUwOWItZTRkOS00OGFkLWJmYTItYzBjZTM4YThkZTli%40thread.v2/0?context=%7b%22Tid%22%3a%2273e15cf5-5dbb-46af-a862-753916269d73%22%2c%22Oid%22%3a%22dbaedd88-5cd2-48a4-a2d2-6702530ae1d3%22%7d
END:VEVENT
BEGIN:VEVENT
DTSTART;TZID=America/New_York:20250130T120000
DTEND;TZID=America/New_York:20250130T130000
DTSTAMP:20260422T080604
CREATED:20241201T023904Z
LAST-MODIFIED:20241201T023904Z
UID:10000190-1738238400-1738242000@bryan.uncg.edu
SUMMARY:Meet a Spartan: Graduate Student Panel
DESCRIPTION:Curious about the ins and outs of graduate student life? Meet with current Bryan School graduate students and learn more about what influenced them to go to graduate school\, how many hours per week they spend studying\, what types of jobs they have outside of school\, and much more. \nYou’ll also have the opportunity to ask your own questions. Graduate student ambassadors from a variety of graduate programs will share their personal experiences as well as some tips for future graduate students. \nRegister in advance to receive the event access link.
URL:https://bryan.uncg.edu/event/meet-a-spartan-graduate-student-panel-2/2025-01-30/
LOCATION:Online
CATEGORIES:Graduate Recruitment
ATTACH;FMTTYPE=image/jpeg:https://bryan.uncg.edu/wp-content/uploads/2023/08/Virtual_Info-240x240-1-e1751488687137.jpg
ORGANIZER;CN="Jennifer Kiger Chapman":MAILTO:Jennifer-BryanGrad@uncg.edu
END:VEVENT
BEGIN:VEVENT
DTSTART;TZID=America/New_York:20250131T120000
DTEND;TZID=America/New_York:20250131T130000
DTSTAMP:20260422T080604
CREATED:20241217T161853Z
LAST-MODIFIED:20250127T213550Z
UID:10000209-1738324800-1738328400@bryan.uncg.edu
SUMMARY:Virtual Bryan Online Undergraduate Program Info Session
DESCRIPTION:Interested in pursuing or completing your bachelor’s degree? Join us for an informative virtual session during which you will have the opportunity to explore the exceptional online program options available at the UNC Greensboro Bryan School of Business and Economics. This session will offer concurrent meeting options in English and Spanish. \nDuring this session\, we will delve into the following key topics: \n\nAn exploration of diverse program options\, including the types of classes you can expect to take\nGuidance on application deadlines and when to apply\nDetails of the resources available to you as an online student\nInformation on our completely online program structure\nAn overview of program cost and opportunities for financial aid\n\nWe hope you can join us so we can aid you in making an informed decision regarding your academic journey! \nLoading…
URL:https://bryan.uncg.edu/event/bryan-online-undergraduate-program-info-session-23/
LOCATION:Online
CATEGORIES:uncg_main,Undergraduate Recruitment
ATTACH;FMTTYPE=image/jpeg:https://bryan.uncg.edu/wp-content/uploads/2023/10/Evening_Info.jpg
ORGANIZER;CN="Bryan Online Programs":MAILTO:bryanonline@uncg.edu
END:VEVENT
END:VCALENDAR