BEGIN:VCALENDAR
VERSION:2.0
PRODID:-//Bryan School of Business &amp; Economics - ECPv6.15.17//NONSGML v1.0//EN
CALSCALE:GREGORIAN
METHOD:PUBLISH
X-WR-CALNAME:Bryan School of Business &amp; Economics
X-ORIGINAL-URL:https://bryan.uncg.edu
X-WR-CALDESC:Events for Bryan School of Business &amp; Economics
REFRESH-INTERVAL;VALUE=DURATION:PT1H
X-Robots-Tag:noindex
X-PUBLISHED-TTL:PT1H
BEGIN:VTIMEZONE
TZID:America/New_York
BEGIN:DAYLIGHT
TZOFFSETFROM:-0500
TZOFFSETTO:-0400
TZNAME:EDT
DTSTART:20240310T070000
END:DAYLIGHT
BEGIN:STANDARD
TZOFFSETFROM:-0400
TZOFFSETTO:-0500
TZNAME:EST
DTSTART:20241103T060000
END:STANDARD
BEGIN:DAYLIGHT
TZOFFSETFROM:-0500
TZOFFSETTO:-0400
TZNAME:EDT
DTSTART:20250309T070000
END:DAYLIGHT
BEGIN:STANDARD
TZOFFSETFROM:-0400
TZOFFSETTO:-0500
TZNAME:EST
DTSTART:20251102T060000
END:STANDARD
BEGIN:DAYLIGHT
TZOFFSETFROM:-0500
TZOFFSETTO:-0400
TZNAME:EDT
DTSTART:20260308T070000
END:DAYLIGHT
BEGIN:STANDARD
TZOFFSETFROM:-0400
TZOFFSETTO:-0500
TZNAME:EST
DTSTART:20261101T060000
END:STANDARD
END:VTIMEZONE
BEGIN:VEVENT
DTSTART;TZID=America/New_York:20250204T120000
DTEND;TZID=America/New_York:20250204T130000
DTSTAMP:20260422T210351
CREATED:20250121T153947Z
LAST-MODIFIED:20250205T172335Z
UID:10000218-1738670400-1738674000@bryan.uncg.edu
SUMMARY:Bank of America Company Spotlight
DESCRIPTION:The Company Spotlight Series offers Bryan School students a unique\, hands-on opportunity to gain valuable industry insights directly from employers. \nIn this particular session we highlight Bank of America. \nBank of America is one of the world’s leading financial institutions\, serving individuals\, small- and middle-market businesses\, large corporations\, and governments with a full range of banking\, investment management and other financial and risk management products and services \nThis session will focus on learning about the robust internship program offered to students\, as well as career path options with this financial institution. \n Click Here to Register!
URL:https://bryan.uncg.edu/event/bank-of-america-company-spotlight-2-4-25/
CATEGORIES:Company Spotlight
ATTACH;FMTTYPE=image/jpeg:https://bryan.uncg.edu/wp-content/uploads/2023/07/Company_Spotlights.jpg
LOCATION:https://bryan.uncg.edu/event/bank-of-america-company-spotlight-2-4-25/
END:VEVENT
BEGIN:VEVENT
DTSTART;TZID=America/New_York:20250205T120000
DTEND;TZID=America/New_York:20250205T130000
DTSTAMP:20260422T210351
CREATED:20250123T174956Z
LAST-MODIFIED:20250205T172326Z
UID:10000223-1738756800-1738760400@bryan.uncg.edu
SUMMARY:Bernard Robinson & Company\, LLP Company Spotlight
DESCRIPTION:The Company Spotlight Series offers Bryan School students a unique\, hands-on opportunity to gain valuable industry insights directly from employers. \nIn this particular session we highlight Bernard Robinson & Company. \nBRC is a CPA and advisory firm serving clients and their businesses throughout the Southeast for more than 75 years. With more than 200 employees\, BRC is a leading North Carolina accounting\, tax and advisory firm with locations in Greensboro\, Charlotte\, Raleigh\, Winston-Salem\, and Dunn\, NC \nThis session will focus on learning about all of the career opportunities and internships that can be found at BRC\, as well as the optimal timing in which to apply for these opportunities. \n Click Here to Register!
URL:https://bryan.uncg.edu/event/bernard-robinson-company-llp-company-spotlight-2-5-25/
LOCATION:Bryan School of Business and Economics\, 516 Stirling Street\, Greensboro\, NC\, 27412\, United States
CATEGORIES:Company Spotlight
ATTACH;FMTTYPE=image/jpeg:https://bryan.uncg.edu/wp-content/uploads/2023/07/Company_Spotlights.jpg
END:VEVENT
BEGIN:VEVENT
DTSTART;TZID=America/New_York:20250206T120000
DTEND;TZID=America/New_York:20250206T130000
DTSTAMP:20260422T210351
CREATED:20241201T024534Z
LAST-MODIFIED:20241201T024534Z
UID:10000203-1738843200-1738846800@bryan.uncg.edu
SUMMARY:Finance & Funding Webinar for Bryan Graduate Programs
DESCRIPTION:Let us help you make a plan for funding your graduate program. In this webinar\, our graduate program recruitment team will discuss finance and funding options available for Bryan School graduate programs. The presentation and discussion will include options for domestic and international students such as: \n\nTuition and fee bill timeline\nPayment methods and payment plan options\nFinance options such as financial aid and loans\nScholarships and graduate assistantships\nAnd other funding options used by current graduate program students\n\nRegister in advance to receive the event access link.
URL:https://bryan.uncg.edu/event/finance-funding-webinar-for-bryan-graduate-programs-10/2025-02-06/
LOCATION:Zoom
CATEGORIES:Graduate Recruitment
ATTACH;FMTTYPE=image/jpeg:https://bryan.uncg.edu/wp-content/uploads/2023/08/pexels-photo-7491011-240x240-1-e1751489021214.jpeg
ORGANIZER;CN="Jennifer Kiger Chapman":MAILTO:Jennifer-BryanGrad@uncg.edu
END:VEVENT
END:VCALENDAR