BEGIN:VCALENDAR
VERSION:2.0
PRODID:-//Bryan School of Business &amp; Economics - ECPv6.15.17//NONSGML v1.0//EN
CALSCALE:GREGORIAN
METHOD:PUBLISH
X-ORIGINAL-URL:https://bryan.uncg.edu
X-WR-CALDESC:Events for Bryan School of Business &amp; Economics
REFRESH-INTERVAL;VALUE=DURATION:PT1H
X-Robots-Tag:noindex
X-PUBLISHED-TTL:PT1H
BEGIN:VTIMEZONE
TZID:America/New_York
BEGIN:DAYLIGHT
TZOFFSETFROM:-0500
TZOFFSETTO:-0400
TZNAME:EDT
DTSTART:20240310T070000
END:DAYLIGHT
BEGIN:STANDARD
TZOFFSETFROM:-0400
TZOFFSETTO:-0500
TZNAME:EST
DTSTART:20241103T060000
END:STANDARD
BEGIN:DAYLIGHT
TZOFFSETFROM:-0500
TZOFFSETTO:-0400
TZNAME:EDT
DTSTART:20250309T070000
END:DAYLIGHT
BEGIN:STANDARD
TZOFFSETFROM:-0400
TZOFFSETTO:-0500
TZNAME:EST
DTSTART:20251102T060000
END:STANDARD
BEGIN:DAYLIGHT
TZOFFSETFROM:-0500
TZOFFSETTO:-0400
TZNAME:EDT
DTSTART:20260308T070000
END:DAYLIGHT
BEGIN:STANDARD
TZOFFSETFROM:-0400
TZOFFSETTO:-0500
TZNAME:EST
DTSTART:20261101T060000
END:STANDARD
END:VTIMEZONE
BEGIN:VEVENT
DTSTART;TZID=America/New_York:20250212T120000
DTEND;TZID=America/New_York:20250212T130000
DTSTAMP:20260422T233728
CREATED:20250123T175407Z
LAST-MODIFIED:20250205T172315Z
UID:10000224-1739361600-1739365200@bryan.uncg.edu
SUMMARY:Northwestern Mutual Company Spotlight
DESCRIPTION:The Company Spotlight Series offers Bryan School students a unique\, hands-on opportunity to gain valuable industry insights directly from employers. \nIn this particular session we highlight Northwestern Mutual. \nNorthwestern Mutual is an American financial services mutual organization based in Milwaukee\, Wisconsin. The financial security company provides consultation on wealth and asset income protection\, education planning\, retirement planning\, investment advisory services\, Financial Planning trust and private client services\, estate planning and business planning. Its products include life insurance\, permanent life insurance\, disability income\, and long-term care insurance; annuities; investments; and investment advisory products and services \nThis session will focus on learning about all of the career opportunities and competitive internships that can be found at Northwestern Mutual\, as well as the optimal timing in which to apply for these opportunities. \n Click Here to Register!
URL:https://bryan.uncg.edu/event/northwestern-mutual-company-spotlight-2-12-25/
LOCATION:Bryan School of Business and Economics\, 516 Stirling Street\, Greensboro\, NC\, 27412\, United States
CATEGORIES:Company Spotlight
ATTACH;FMTTYPE=image/png:https://bryan.uncg.edu/wp-content/uploads/2025/01/New-Company-Spotlight.png
END:VEVENT
BEGIN:VEVENT
DTSTART;TZID=America/New_York:20250213T120000
DTEND;TZID=America/New_York:20250213T130000
DTSTAMP:20260422T233728
CREATED:20241201T020914Z
LAST-MODIFIED:20241201T020914Z
UID:10000168-1739448000-1739451600@bryan.uncg.edu
SUMMARY:Mastering Your Graduate Program Application
DESCRIPTION:Submitting your grad school application may seem like a daunting task\, but the earlier you submit your application\, the more options you will have for course selection and financial aid. Applications are reviewed on a rolling basis\, so you can expect a decision within 2-4 weeks of submission. To help ensure that you’re ready to hit the “submit” button\, the Bryan School Graduate Recruitment Team will share tips on how you can create a successful business school application. During the webinar\, attendees will learn more about: \n\nRolling admissions and deadlines\nSupporting documents\nRecommendations and tips for a successful application\nWhat to expect throughout the admissions process\nAnd more!\n\nRegister in advance to receive the event access link.
URL:https://bryan.uncg.edu/event/mastering-your-graduate-program-application-12/2025-02-13/
LOCATION:Online
CATEGORIES:Graduate Recruitment
ATTACH;FMTTYPE=image/jpeg:https://bryan.uncg.edu/wp-content/uploads/2023/08/webinar-240x240-1-e1751488899693.jpg
ORGANIZER;CN="Jennifer Kiger Chapman":MAILTO:Jennifer-BryanGrad@uncg.edu
END:VEVENT
END:VCALENDAR