BEGIN:VCALENDAR
VERSION:2.0
PRODID:-//Bryan School of Business &amp; Economics - ECPv6.15.17//NONSGML v1.0//EN
CALSCALE:GREGORIAN
METHOD:PUBLISH
X-WR-CALNAME:Bryan School of Business &amp; Economics
X-ORIGINAL-URL:https://bryan.uncg.edu
X-WR-CALDESC:Events for Bryan School of Business &amp; Economics
REFRESH-INTERVAL;VALUE=DURATION:PT1H
X-Robots-Tag:noindex
X-PUBLISHED-TTL:PT1H
BEGIN:VTIMEZONE
TZID:America/New_York
BEGIN:DAYLIGHT
TZOFFSETFROM:-0500
TZOFFSETTO:-0400
TZNAME:EDT
DTSTART:20240310T070000
END:DAYLIGHT
BEGIN:STANDARD
TZOFFSETFROM:-0400
TZOFFSETTO:-0500
TZNAME:EST
DTSTART:20241103T060000
END:STANDARD
BEGIN:DAYLIGHT
TZOFFSETFROM:-0500
TZOFFSETTO:-0400
TZNAME:EDT
DTSTART:20250309T070000
END:DAYLIGHT
BEGIN:STANDARD
TZOFFSETFROM:-0400
TZOFFSETTO:-0500
TZNAME:EST
DTSTART:20251102T060000
END:STANDARD
BEGIN:DAYLIGHT
TZOFFSETFROM:-0500
TZOFFSETTO:-0400
TZNAME:EDT
DTSTART:20260308T070000
END:DAYLIGHT
BEGIN:STANDARD
TZOFFSETFROM:-0400
TZOFFSETTO:-0500
TZNAME:EST
DTSTART:20261101T060000
END:STANDARD
END:VTIMEZONE
BEGIN:VEVENT
DTSTART;TZID=America/New_York:20250929T180000
DTEND;TZID=America/New_York:20250929T190000
DTSTAMP:20260423T165014
CREATED:20250922T185626Z
LAST-MODIFIED:20250923T173115Z
UID:10000312-1759168800-1759172400@bryan.uncg.edu
SUMMARY:Livestream: Exploring the Bryan School of Business & Economics
DESCRIPTION:Are you thinking about joining one of the top business schools in the world? Maybe you know you want to go into the world of business\, but you’re not quite sure what nice you fit in with? Come chat with Bryan School of Business and Economics faculty and staff about different major opportunities\, scholarships\, career pathways\, and what we mean when we say that You Belong. RSVP here
URL:https://bryan.uncg.edu/event/livestream-exploring-the-bryan-school-of-business-economics/
LOCATION:Online
CATEGORIES:Undergraduate Recruitment
END:VEVENT
BEGIN:VEVENT
DTSTART;TZID=America/New_York:20251002T120000
DTEND;TZID=America/New_York:20251002T130000
DTSTAMP:20260423T165014
CREATED:20250605T143215Z
LAST-MODIFIED:20250605T143415Z
UID:10000251-1759406400-1759410000@bryan.uncg.edu
SUMMARY:Mastering Your Graduate Program Application
DESCRIPTION:Submitting your grad school application may seem like a daunting task\, but the earlier you submit your application\, the more options you will have for course selection and financial aid. Applications are reviewed on a rolling basis\, so you can expect a decision within 2-4 weeks of submission. To help ensure that you’re ready to hit the “submit” button\, the Bryan School Graduate Recruitment Team will share tips on how you can create a successful business school application. During the webinar\, attendees will learn more about: \n\nRolling admissions and deadlines\nSupporting documents\nRecommendations and tips for a successful application\nWhat to expect throughout the admissions process\nAnd more!\n\nRegister in advance to receive the event access link.
URL:https://bryan.uncg.edu/event/mastering-your-graduate-program-application-13/2025-10-02/
LOCATION:Online
CATEGORIES:Graduate Recruitment
ATTACH;FMTTYPE=image/jpeg:https://bryan.uncg.edu/wp-content/uploads/2023/08/webinar-240x240-1-e1751488899693.jpg
ORGANIZER;CN="Jennifer Kiger Chapman":MAILTO:Jennifer-BryanGrad@uncg.edu
END:VEVENT
END:VCALENDAR