BEGIN:VCALENDAR
VERSION:2.0
PRODID:-//Bryan School of Business &amp; Economics - ECPv6.15.17//NONSGML v1.0//EN
CALSCALE:GREGORIAN
METHOD:PUBLISH
X-ORIGINAL-URL:https://bryan.uncg.edu
X-WR-CALDESC:Events for Bryan School of Business &amp; Economics
REFRESH-INTERVAL;VALUE=DURATION:PT1H
X-Robots-Tag:noindex
X-PUBLISHED-TTL:PT1H
BEGIN:VTIMEZONE
TZID:America/New_York
BEGIN:DAYLIGHT
TZOFFSETFROM:-0500
TZOFFSETTO:-0400
TZNAME:EDT
DTSTART:20240310T070000
END:DAYLIGHT
BEGIN:STANDARD
TZOFFSETFROM:-0400
TZOFFSETTO:-0500
TZNAME:EST
DTSTART:20241103T060000
END:STANDARD
BEGIN:DAYLIGHT
TZOFFSETFROM:-0500
TZOFFSETTO:-0400
TZNAME:EDT
DTSTART:20250309T070000
END:DAYLIGHT
BEGIN:STANDARD
TZOFFSETFROM:-0400
TZOFFSETTO:-0500
TZNAME:EST
DTSTART:20251102T060000
END:STANDARD
BEGIN:DAYLIGHT
TZOFFSETFROM:-0500
TZOFFSETTO:-0400
TZNAME:EDT
DTSTART:20260308T070000
END:DAYLIGHT
BEGIN:STANDARD
TZOFFSETFROM:-0400
TZOFFSETTO:-0500
TZNAME:EST
DTSTART:20261101T060000
END:STANDARD
END:VTIMEZONE
BEGIN:VEVENT
DTSTART;TZID=America/New_York:20251021T120000
DTEND;TZID=America/New_York:20251021T130000
DTSTAMP:20260425T210653
CREATED:20250818T161710Z
LAST-MODIFIED:20250828T135018Z
UID:10000302-1761048000-1761051600@bryan.uncg.edu
SUMMARY:Company Spotlight Session: JPMorgan Chase 10/21/25
DESCRIPTION:The Company Spotlight Series offers Bryan School students a unique\, hands-on opportunity to gain valuable industry insights directly from employers. \nWe are excited to welcome JPMorgan Chase & Co.\, one of the world’s leading financial services firms\, serving millions of customers and many of the most prominent corporate\, institutional\, and government clients globally. Known for its innovation\, global reach\, and commitment to developing top talent\, JPMorgan Chase offers career opportunities in finance\, operations\, technology\, marketing\, and more. Business students will find a dynamic environment here that fosters professional growth\, encourages collaboration\, and provides the chance to make an impact on a global scale. \nRegister for this event on Handshake!
URL:https://bryan.uncg.edu/event/company-spotlight-session-jpmorgan-chase-10-21-25/
LOCATION:Microsoft Teams
CATEGORIES:Company Spotlight
ATTACH;FMTTYPE=image/png:https://bryan.uncg.edu/wp-content/uploads/2025/01/New-Company-Spotlight.png
ORGANIZER;CN="Courtney Haynes":MAILTO:cchaynes@uncg.edu
END:VEVENT
BEGIN:VEVENT
DTSTART;TZID=America/New_York:20251022T120000
DTEND;TZID=America/New_York:20251022T130000
DTSTAMP:20260425T210653
CREATED:20250605T143602Z
LAST-MODIFIED:20250918T205711Z
UID:10000261-1761134400-1761138000@bryan.uncg.edu
SUMMARY:Business Casual: Real Talk with Bryan Graduate Students
DESCRIPTION:Curious about the ins and outs of graduate student life? Meet with current Bryan School graduate students and learn more about what influenced them to go to graduate school\, how many hours per week they spend studying\, what types of jobs they have outside of school\, and much more. \nYou’ll also have the opportunity to ask your own questions. Graduate student ambassadors from a variety of graduate programs will share their personal experiences as well as some tips for future graduate students. \nRegister in advance to receive the event access link.
URL:https://bryan.uncg.edu/event/meet-a-spartan-graduate-student-panel-3/2025-10-22/
LOCATION:Online
CATEGORIES:Graduate Recruitment
ATTACH;FMTTYPE=image/jpeg:https://bryan.uncg.edu/wp-content/uploads/2023/08/Virtual_Info-240x240-1-e1751488687137.jpg
ORGANIZER;CN="Jennifer Kiger Chapman":MAILTO:Jennifer-BryanGrad@uncg.edu
END:VEVENT
BEGIN:VEVENT
DTSTART;TZID=America/New_York:20251022T120000
DTEND;TZID=America/New_York:20251022T130000
DTSTAMP:20260425T210653
CREATED:20250818T161601Z
LAST-MODIFIED:20250828T135122Z
UID:10000301-1761134400-1761138000@bryan.uncg.edu
SUMMARY:Company Spotlight Session: Volvo 10/22/25
DESCRIPTION:The Company Spotlight Series offers Bryan School students a unique\, hands-on opportunity to gain valuable industry insights directly from employers. \nWe are pleased to welcome Volvo Trucks\, a global leader in sustainable transport solutions and one of the world’s most recognized names in the commercial vehicle industry. With a strong focus on innovation\, safety\, and environmental care\, Volvo Trucks offers a wide range of career paths in areas such as supply chain\, marketing\, finance\, and operations. Business students will find exciting opportunities here to work in a collaborative\, international environment that values creativity\, continuous learning\, and making a positive impact on the future of transportation. \nRegister for this event on Handshake!
URL:https://bryan.uncg.edu/event/company-spotlight-session-inmar-intelligence-10-15-25/
LOCATION:Bryan Building – Room 225\, 516 Stirling Street\, Greensboro\, NC\, 27412\, United States
CATEGORIES:Company Spotlight
ATTACH;FMTTYPE=image/png:https://bryan.uncg.edu/wp-content/uploads/2025/01/New-Company-Spotlight.png
ORGANIZER;CN="Courtney Haynes":MAILTO:cchaynes@uncg.edu
END:VEVENT
END:VCALENDAR