BEGIN:VCALENDAR
VERSION:2.0
PRODID:-//Bryan School of Business &amp; Economics - ECPv6.15.17//NONSGML v1.0//EN
CALSCALE:GREGORIAN
METHOD:PUBLISH
X-WR-CALNAME:Bryan School of Business &amp; Economics
X-ORIGINAL-URL:https://bryan.uncg.edu
X-WR-CALDESC:Events for Bryan School of Business &amp; Economics
REFRESH-INTERVAL;VALUE=DURATION:PT1H
X-Robots-Tag:noindex
X-PUBLISHED-TTL:PT1H
BEGIN:VTIMEZONE
TZID:America/New_York
BEGIN:DAYLIGHT
TZOFFSETFROM:-0500
TZOFFSETTO:-0400
TZNAME:EDT
DTSTART:20250309T070000
END:DAYLIGHT
BEGIN:STANDARD
TZOFFSETFROM:-0400
TZOFFSETTO:-0500
TZNAME:EST
DTSTART:20251102T060000
END:STANDARD
BEGIN:DAYLIGHT
TZOFFSETFROM:-0500
TZOFFSETTO:-0400
TZNAME:EDT
DTSTART:20260308T070000
END:DAYLIGHT
BEGIN:STANDARD
TZOFFSETFROM:-0400
TZOFFSETTO:-0500
TZNAME:EST
DTSTART:20261101T060000
END:STANDARD
BEGIN:DAYLIGHT
TZOFFSETFROM:-0500
TZOFFSETTO:-0400
TZNAME:EDT
DTSTART:20270314T070000
END:DAYLIGHT
BEGIN:STANDARD
TZOFFSETFROM:-0400
TZOFFSETTO:-0500
TZNAME:EST
DTSTART:20271107T060000
END:STANDARD
END:VTIMEZONE
BEGIN:VEVENT
DTSTART;TZID=America/New_York:20260318T170000
DTEND;TZID=America/New_York:20260318T183000
DTSTAMP:20260423T182355
CREATED:20260224T213544Z
LAST-MODIFIED:20260224T213544Z
UID:10000366-1773853200-1773858600@bryan.uncg.edu
SUMMARY:MEHT Future Forward Series: Lessons from Alumni
DESCRIPTION:Speaker: Ms. Tomeka Williams – UNCG Class of 2007\nVice President – Mielle Commercial Operations and New Channels\, North American Hair Care\nMEHT Future Forward is a speaker series dedicated to learning from successful alumni. This initiative connects students with accomplished graduates who offer valuable real-world insights on topics such as entrepreneurship\, career development\, and navigating future opportunities. Through engaging presentations and personal stories\, alumni share their experiences in overcoming challenges\, making pivotal career decisions\, and building thriving businesses. By fostering these connections\, the series provides students with a deeper understanding of the skills\, mindset\, and strategies required to succeed in their own careers. Ultimately\, Future Forward equips students with practical knowledge and inspiration to confidently pursue their goals and prepare for the evolving professional landscape. Click Here to register!
URL:https://bryan.uncg.edu/event/meht-future-forward-series-lessons-from-alumni/
LOCATION:Bryan School of Business and Economics\, 516 Stirling Street\, Greensboro\, NC\, 27412\, United States
CATEGORIES:Marketing, Entrepreneurship, Hospitality and Tourism
END:VEVENT
BEGIN:VEVENT
DTSTART;TZID=America/New_York:20260318T180000
DTEND;TZID=America/New_York:20260318T193000
DTSTAMP:20260423T182355
CREATED:20260227T185329Z
LAST-MODIFIED:20260318T152352Z
UID:10000370-1773856800-1773862200@bryan.uncg.edu
SUMMARY:UNCG Transfer Information Program
DESCRIPTION:Join us for a virtual Transfer Information Program (TIP) hosted by Undergraduate Admissions happening on  Wednesday\, March 18\, 2026\, from 6:00 pm until 7:30 pm  \nDon’t miss a great opportunity to find out about UNC Greensboro! The Office of Undergraduate Admissions invites prospective transfer and adult students to attend the virtual session for a chance to talk to transfer articulation specialists\, financial aid representatives\, and admissions counselors in a virtual environment. You’ll learn about the admission process\, transfer credit evaluations\, and financial aid through presentations and open discussions. You will also have the opportunity to attend a breakout session hosted by the Bryan School where you will hear from staff and current students. Eligibile attendees may earn a $65 application fee waiver to use towards the  Summer or Fall 2026  semester. \n Click Here to Register!
URL:https://bryan.uncg.edu/event/uncg-transfer-information-program-5/
LOCATION:Online
CATEGORIES:Undergraduate Recruitment
ATTACH;FMTTYPE=image/png:https://bryan.uncg.edu/wp-content/uploads/2022/01/website14.png
END:VEVENT
BEGIN:VEVENT
DTSTART;TZID=America/New_York:20260319T090000
DTEND;TZID=America/New_York:20260319T120000
DTSTAMP:20260423T182355
CREATED:20260303T203647Z
LAST-MODIFIED:20260303T205506Z
UID:10000372-1773910800-1773921600@bryan.uncg.edu
SUMMARY:Bryan Grad Coffee Chats
DESCRIPTION:for UNC Greensboro Undergraduate Students \nThe Bryan School of Business and Economics is hosting coffee chats for UNC Greensboro undergraduate students to learn more about our master’s and graduate certificate program offerings. Whether you’re just curious about program timing and costs or you’re ready to apply\, we’re happy to meet with you to chat about our programs and help answer your questions. \nStudents from all academic majors are invited to attend!\n\nLet us perk up your day while our staff shares the perks of earning a graduate degree such as:\n\nIncreased earning potential\nCareer advancement\nJob security\nLearning new skills\nAnd more!\n\nComplimentary brewed coffee will be provided\, and attendees will receive a gift card at the end of the session which can be used towards future EUC Starbucks purchases. \nRSVP in advance to earn an application fee waiver ($65 value)!
URL:https://bryan.uncg.edu/event/bryan-grad-coffee-chats/2026-03-19/
LOCATION:Elliott University Center\, Starbucks\, 507 Stirling Street\, Greensboro\, NC\, 27412\, United States
CATEGORIES:Graduate Recruitment
ATTACH;FMTTYPE=image/jpeg:https://bryan.uncg.edu/wp-content/uploads/2026/03/Updated-Spring-2026-Coffee-Chats-TV-Slide-scaled.jpg
ORGANIZER;CN="Jennifer Kiger Chapman":MAILTO:Jennifer-BryanGrad@uncg.edu
END:VEVENT
BEGIN:VEVENT
DTSTART;TZID=America/New_York:20260320T090000
DTEND;TZID=America/New_York:20260320T120000
DTSTAMP:20260423T182355
CREATED:20260303T203647Z
LAST-MODIFIED:20260303T205506Z
UID:10000373-1773997200-1774008000@bryan.uncg.edu
SUMMARY:Bryan Grad Coffee Chats
DESCRIPTION:for UNC Greensboro Undergraduate Students \nThe Bryan School of Business and Economics is hosting coffee chats for UNC Greensboro undergraduate students to learn more about our master’s and graduate certificate program offerings. Whether you’re just curious about program timing and costs or you’re ready to apply\, we’re happy to meet with you to chat about our programs and help answer your questions. \nStudents from all academic majors are invited to attend!\n\nLet us perk up your day while our staff shares the perks of earning a graduate degree such as:\n\nIncreased earning potential\nCareer advancement\nJob security\nLearning new skills\nAnd more!\n\nComplimentary brewed coffee will be provided\, and attendees will receive a gift card at the end of the session which can be used towards future EUC Starbucks purchases. \nRSVP in advance to earn an application fee waiver ($65 value)!
URL:https://bryan.uncg.edu/event/bryan-grad-coffee-chats/2026-03-20/
LOCATION:Elliott University Center\, Starbucks\, 507 Stirling Street\, Greensboro\, NC\, 27412\, United States
CATEGORIES:Graduate Recruitment
ATTACH;FMTTYPE=image/jpeg:https://bryan.uncg.edu/wp-content/uploads/2026/03/Updated-Spring-2026-Coffee-Chats-TV-Slide-scaled.jpg
ORGANIZER;CN="Jennifer Kiger Chapman":MAILTO:Jennifer-BryanGrad@uncg.edu
END:VEVENT
BEGIN:VEVENT
DTSTART;TZID=America/New_York:20260320T153000
DTEND;TZID=America/New_York:20260320T170000
DTSTAMP:20260423T182355
CREATED:20260302T172337Z
LAST-MODIFIED:20260318T152313Z
UID:10000362-1774020600-1774026000@bryan.uncg.edu
SUMMARY:Economics Departmental Seminar - German Cubas
DESCRIPTION:Please join the UNCG Economics Department for a seminar featuring Dr. German Cubas from the University of Houston. Dr. Cubas will present “Risk and the Misallocation of Human Capital” on March 20 at 3:30 p.m. in Bryan 456\, with a simultaneous livestream on Microsoft Teams.
URL:https://bryan.uncg.edu/event/economics-departmental-seminar-german-cubas/
LOCATION:Bryan Building – Room 456\, 516 Stirling Street\, Greensboro\, United States
CATEGORIES:Economics,Graduate Students,Undergraduate Students
ATTACH;FMTTYPE=image/png:https://bryan.uncg.edu/wp-content/uploads/2026/03/German-Cubas-seminar-UPDATE.png
END:VEVENT
BEGIN:VEVENT
DTSTART;TZID=America/New_York:20260321T100000
DTEND;TZID=America/New_York:20260321T120000
DTSTAMP:20260423T182355
CREATED:20260226T142052Z
LAST-MODIFIED:20260227T134649Z
UID:10000369-1774087200-1774094400@bryan.uncg.edu
SUMMARY:Par-Tee Like a Bryan School Alum at Topgolf
DESCRIPTION:Get ready to hit the greens – and the bays – with your fellow Bryan alumni! The Bryan School Alumni Association has two exciting opportunities this spring to reconnect\, compete\, and have fun. \nJoin us for Topgolf on Saturday\, March 21\, at 609 Guilford College Rd\, Greensboro\, NC 27409\, for a high-energy outing filled with great company and friendly competition. Your ticket includes two hours of play\, brunch\, and unlimited opportunities to connect with fellow Bryan School alumni. Take advantage of our Early Bird Special – purchase your ticket by March 11 to receive $5 off the regular ticket price at checkout. \nPurchase Tickets
URL:https://bryan.uncg.edu/event/par-tee-like-a-bryan-school-alum-at-topgolf/
LOCATION:Topgolf\, 609 Guilford College Rd\, GREENSBORO\, NC\, 27409\, United States
CATEGORIES:Alumni
ATTACH;FMTTYPE=image/webp:https://bryan.uncg.edu/wp-content/uploads/2026/02/Top_Golf.webp
ORGANIZER;CN="Katy Barker":MAILTO:klpeter3@uncg.edu
END:VEVENT
END:VCALENDAR