BEGIN:VCALENDAR
VERSION:2.0
PRODID:-//Bryan School of Business &amp; Economics - ECPv6.15.17//NONSGML v1.0//EN
CALSCALE:GREGORIAN
METHOD:PUBLISH
X-WR-CALNAME:Bryan School of Business &amp; Economics
X-ORIGINAL-URL:https://bryan.uncg.edu
X-WR-CALDESC:Events for Bryan School of Business &amp; Economics
REFRESH-INTERVAL;VALUE=DURATION:PT1H
X-Robots-Tag:noindex
X-PUBLISHED-TTL:PT1H
BEGIN:VTIMEZONE
TZID:America/New_York
BEGIN:DAYLIGHT
TZOFFSETFROM:-0500
TZOFFSETTO:-0400
TZNAME:EDT
DTSTART:20250309T070000
END:DAYLIGHT
BEGIN:STANDARD
TZOFFSETFROM:-0400
TZOFFSETTO:-0500
TZNAME:EST
DTSTART:20251102T060000
END:STANDARD
BEGIN:DAYLIGHT
TZOFFSETFROM:-0500
TZOFFSETTO:-0400
TZNAME:EDT
DTSTART:20260308T070000
END:DAYLIGHT
BEGIN:STANDARD
TZOFFSETFROM:-0400
TZOFFSETTO:-0500
TZNAME:EST
DTSTART:20261101T060000
END:STANDARD
BEGIN:DAYLIGHT
TZOFFSETFROM:-0500
TZOFFSETTO:-0400
TZNAME:EDT
DTSTART:20270314T070000
END:DAYLIGHT
BEGIN:STANDARD
TZOFFSETFROM:-0400
TZOFFSETTO:-0500
TZNAME:EST
DTSTART:20271107T060000
END:STANDARD
END:VTIMEZONE
BEGIN:VEVENT
DTSTART;TZID=America/New_York:20260324T120000
DTEND;TZID=America/New_York:20260324T130000
DTSTAMP:20260422T010617
CREATED:20260108T151619Z
LAST-MODIFIED:20260120T164611Z
UID:10000354-1774353600-1774357200@bryan.uncg.edu
SUMMARY:Company Spotlight Session: BlackRock\, Inc. (3/24/26)
DESCRIPTION:Join us for a Company Spotlight featuring BlackRock\, Inc. and learn how data\, technology\, and investment strategy drive decision-making at one of the world’s leading asset management firms. \nThis session is ideal for students interested in finance\, economics\, analytics\, information systems\, risk management\, operations\, and strategy. You’ll gain insight into how BlackRock partners with clients globally\, leverages technology to manage risk\, and offers diverse career pathways across investment\, technology\, and corporate functions. \nWhy attend? \n\nExplore business and finance career pathways in global asset management\nLearn how data\, analytics\, and technology support investment decisions\nHear directly from professionals about in-demand skills and early-career opportunities\nAsk questions and engage in an interactive discussion\n\nWhether you’re interested in finance\, analytics\, technology-enabled business roles\, or understanding how markets operate at scale\, this Company Spotlight offers valuable real-world perspective. \nRegister for the event in Handshake: https://uncg.joinhandshake.com/events/1881776/share_preview
URL:https://bryan.uncg.edu/event/company-spotlight-session-blackrock-inc-3-24-26/
LOCATION:Microsoft Teams
CATEGORIES:Company Spotlight
ATTACH;FMTTYPE=image/png:https://bryan.uncg.edu/wp-content/uploads/2025/01/New-Company-Spotlight.png
ORGANIZER;CN="Courtney Haynes":MAILTO:cchaynes@uncg.edu
END:VEVENT
BEGIN:VEVENT
DTSTART;TZID=America/New_York:20260325T120000
DTEND;TZID=America/New_York:20260325T130000
DTSTAMP:20260422T010617
CREATED:20260108T151804Z
LAST-MODIFIED:20260120T164751Z
UID:10000355-1774440000-1774443600@bryan.uncg.edu
SUMMARY:Company Spotlight Session: JetZero (3/25/26)
DESCRIPTION:Join us for a Company Spotlight featuring JetZero and learn how business strategy\, operations\, and innovation support the future of sustainable aviation. \nThis session is ideal students interested in analytics\, operations\, supply chain\, finance\, project management\, strategy\, and technology-driven organizations. You’ll gain insight into how JetZero operates as a fast-growing startup\, partners across industries\, and translates cutting-edge engineering into scalable business solutions. \nWhy attend? \n\nExplore business career pathways within an innovative aerospace startup\nLearn how strategy\, operations\, and data support sustainability and growth\nHear directly from professionals about skills needed in high-impact\, emerging industries\nAsk questions and engage in an interactive discussion\n\nWhether you’re interested in startups\, advanced manufacturing\, sustainability\, or applying business skills in a high-growth environment\, this Company Spotlight offers valuable real-world perspective. \nRegister for the event in Handshake: https://uncg.joinhandshake.com/events/1881789/share_preview
URL:https://bryan.uncg.edu/event/company-spotlight-session-jetzero-3-25-26/
LOCATION:Bryan Building – Room 225\, 516 Stirling Street\, Greensboro\, NC\, 27412\, United States
CATEGORIES:Company Spotlight
ATTACH;FMTTYPE=image/png:https://bryan.uncg.edu/wp-content/uploads/2025/01/New-Company-Spotlight.png
ORGANIZER;CN="Courtney Haynes":MAILTO:cchaynes@uncg.edu
END:VEVENT
BEGIN:VEVENT
DTSTART;TZID=America/New_York:20260326T090000
DTEND;TZID=America/New_York:20260326T120000
DTSTAMP:20260422T010617
CREATED:20260303T203647Z
LAST-MODIFIED:20260303T205506Z
UID:10000374-1774515600-1774526400@bryan.uncg.edu
SUMMARY:Bryan Grad Coffee Chats
DESCRIPTION:for UNC Greensboro Undergraduate Students \nThe Bryan School of Business and Economics is hosting coffee chats for UNC Greensboro undergraduate students to learn more about our master’s and graduate certificate program offerings. Whether you’re just curious about program timing and costs or you’re ready to apply\, we’re happy to meet with you to chat about our programs and help answer your questions. \nStudents from all academic majors are invited to attend!\n\nLet us perk up your day while our staff shares the perks of earning a graduate degree such as:\n\nIncreased earning potential\nCareer advancement\nJob security\nLearning new skills\nAnd more!\n\nComplimentary brewed coffee will be provided\, and attendees will receive a gift card at the end of the session which can be used towards future EUC Starbucks purchases. \nRSVP in advance to earn an application fee waiver ($65 value)!
URL:https://bryan.uncg.edu/event/bryan-grad-coffee-chats/2026-03-26/
LOCATION:Elliott University Center\, Starbucks\, 507 Stirling Street\, Greensboro\, NC\, 27412\, United States
CATEGORIES:Graduate Recruitment
ATTACH;FMTTYPE=image/jpeg:https://bryan.uncg.edu/wp-content/uploads/2026/03/Updated-Spring-2026-Coffee-Chats-TV-Slide-scaled.jpg
ORGANIZER;CN="Jennifer Kiger Chapman":MAILTO:Jennifer-BryanGrad@uncg.edu
END:VEVENT
BEGIN:VEVENT
DTSTART;TZID=America/New_York:20260326T120000
DTEND;TZID=America/New_York:20260326T133000
DTSTAMP:20260422T010617
CREATED:20251125T163334Z
LAST-MODIFIED:20251125T163958Z
UID:10000329-1774526400-1774531800@bryan.uncg.edu
SUMMARY:Virtual Information Session for Bryan Graduate Programs
DESCRIPTION:Virtual information sessions are a great way to learn more about Bryan School Master’s and Certificate programs. \nDuring these sessions\, attendees will have the opportunity to: \n\nMeet with faculty and program leaders.\nHear from current students.\nDiscover our degree offerings\, specialized coursework\, and flexible scheduling options.\nLearn about admissions requirements\, financial aid\, and scholarship options.\nDiscuss application questions with admissions staff.\nAnd more!\n\nRegister in advance to receive the event link.
URL:https://bryan.uncg.edu/event/virtual-information-session-for-bryan-graduate-programs-13/2026-03-26/
LOCATION:Online
CATEGORIES:Graduate Recruitment
ATTACH;FMTTYPE=image/jpeg:https://bryan.uncg.edu/wp-content/uploads/2023/08/Virtual_Info-240x240-1-e1751488687137.jpg
ORGANIZER;CN="Jennifer Kiger Chapman":MAILTO:Jennifer-BryanGrad@uncg.edu
END:VEVENT
BEGIN:VEVENT
DTSTART;TZID=America/New_York:20260327T090000
DTEND;TZID=America/New_York:20260327T120000
DTSTAMP:20260422T010617
CREATED:20260303T203647Z
LAST-MODIFIED:20260303T205506Z
UID:10000375-1774602000-1774612800@bryan.uncg.edu
SUMMARY:Bryan Grad Coffee Chats
DESCRIPTION:for UNC Greensboro Undergraduate Students \nThe Bryan School of Business and Economics is hosting coffee chats for UNC Greensboro undergraduate students to learn more about our master’s and graduate certificate program offerings. Whether you’re just curious about program timing and costs or you’re ready to apply\, we’re happy to meet with you to chat about our programs and help answer your questions. \nStudents from all academic majors are invited to attend!\n\nLet us perk up your day while our staff shares the perks of earning a graduate degree such as:\n\nIncreased earning potential\nCareer advancement\nJob security\nLearning new skills\nAnd more!\n\nComplimentary brewed coffee will be provided\, and attendees will receive a gift card at the end of the session which can be used towards future EUC Starbucks purchases. \nRSVP in advance to earn an application fee waiver ($65 value)!
URL:https://bryan.uncg.edu/event/bryan-grad-coffee-chats/2026-03-27/
LOCATION:Elliott University Center\, Starbucks\, 507 Stirling Street\, Greensboro\, NC\, 27412\, United States
CATEGORIES:Graduate Recruitment
ATTACH;FMTTYPE=image/jpeg:https://bryan.uncg.edu/wp-content/uploads/2026/03/Updated-Spring-2026-Coffee-Chats-TV-Slide-scaled.jpg
ORGANIZER;CN="Jennifer Kiger Chapman":MAILTO:Jennifer-BryanGrad@uncg.edu
END:VEVENT
END:VCALENDAR